BEGIN:VCALENDAR
VERSION:2.0
PRODID:-//Church Hill Rotary - ECPv6.15.3//NONSGML v1.0//EN
CALSCALE:GREGORIAN
METHOD:PUBLISH
X-ORIGINAL-URL:https://www.churchhillrotary.org
X-WR-CALDESC:Events for Church Hill Rotary
REFRESH-INTERVAL;VALUE=DURATION:PT1H
X-Robots-Tag:noindex
X-PUBLISHED-TTL:PT1H
BEGIN:VTIMEZONE
TZID:America/New_York
BEGIN:DAYLIGHT
TZOFFSETFROM:-0500
TZOFFSETTO:-0400
TZNAME:EDT
DTSTART:20190310T070000
END:DAYLIGHT
BEGIN:STANDARD
TZOFFSETFROM:-0400
TZOFFSETTO:-0500
TZNAME:EST
DTSTART:20191103T060000
END:STANDARD
BEGIN:DAYLIGHT
TZOFFSETFROM:-0500
TZOFFSETTO:-0400
TZNAME:EDT
DTSTART:20200308T070000
END:DAYLIGHT
BEGIN:STANDARD
TZOFFSETFROM:-0400
TZOFFSETTO:-0500
TZNAME:EST
DTSTART:20201101T060000
END:STANDARD
END:VTIMEZONE
BEGIN:VEVENT
DTSTART;TZID=America/New_York:20200316T180000
DTEND;TZID=America/New_York:20200316T193000
DTSTAMP:20260421T073623
CREATED:20161220T002327Z
LAST-MODIFIED:20161220T002327Z
UID:863-1584381600-1584387000@www.churchhillrotary.org
SUMMARY:Regular Rotary Meeting
DESCRIPTION:
URL:https://www.churchhillrotary.org/event/regular-rotary-meeting-2020-03-16/
LOCATION:Patrick Henry Pub & Grill\, 2300 E Broad St\, Richmond\, VA\, 23223\, United States
CATEGORIES:Regular Meeting
ORGANIZER;CN="Church Hill Rotary Club":MAILTO:pennyguiles@churchhillrotary.org
END:VEVENT
BEGIN:VEVENT
DTSTART;TZID=America/New_York:20200309T180000
DTEND;TZID=America/New_York:20200309T193000
DTSTAMP:20260421T073623
CREATED:20161220T002327Z
LAST-MODIFIED:20161220T002327Z
UID:862-1583776800-1583782200@www.churchhillrotary.org
SUMMARY:Regular Rotary Meeting
DESCRIPTION:
URL:https://www.churchhillrotary.org/event/regular-rotary-meeting-2020-03-09/
LOCATION:Patrick Henry Pub & Grill\, 2300 E Broad St\, Richmond\, VA\, 23223\, United States
CATEGORIES:Regular Meeting
ORGANIZER;CN="Church Hill Rotary Club":MAILTO:pennyguiles@churchhillrotary.org
END:VEVENT
BEGIN:VEVENT
DTSTART;TZID=America/New_York:20200302T180000
DTEND;TZID=America/New_York:20200302T193000
DTSTAMP:20260421T073623
CREATED:20161220T002327Z
LAST-MODIFIED:20161220T002327Z
UID:861-1583172000-1583177400@www.churchhillrotary.org
SUMMARY:Regular Rotary Meeting
DESCRIPTION:
URL:https://www.churchhillrotary.org/event/regular-rotary-meeting-2020-03-02/
LOCATION:Patrick Henry Pub & Grill\, 2300 E Broad St\, Richmond\, VA\, 23223\, United States
CATEGORIES:Regular Meeting
ORGANIZER;CN="Church Hill Rotary Club":MAILTO:pennyguiles@churchhillrotary.org
END:VEVENT
BEGIN:VEVENT
DTSTART;TZID=America/New_York:20200224T180000
DTEND;TZID=America/New_York:20200224T193000
DTSTAMP:20260421T073623
CREATED:20161220T002327Z
LAST-MODIFIED:20161220T002327Z
UID:860-1582567200-1582572600@www.churchhillrotary.org
SUMMARY:Regular Rotary Meeting
DESCRIPTION:
URL:https://www.churchhillrotary.org/event/regular-rotary-meeting-2020-02-24/
LOCATION:Patrick Henry Pub & Grill\, 2300 E Broad St\, Richmond\, VA\, 23223\, United States
CATEGORIES:Regular Meeting
ORGANIZER;CN="Church Hill Rotary Club":MAILTO:pennyguiles@churchhillrotary.org
END:VEVENT
BEGIN:VEVENT
DTSTART;TZID=America/New_York:20200217T180000
DTEND;TZID=America/New_York:20200217T193000
DTSTAMP:20260421T073623
CREATED:20161220T002327Z
LAST-MODIFIED:20161220T002327Z
UID:858-1581962400-1581967800@www.churchhillrotary.org
SUMMARY:Regular Rotary Meeting
DESCRIPTION:
URL:https://www.churchhillrotary.org/event/regular-rotary-meeting-2020-02-17/
LOCATION:Patrick Henry Pub & Grill\, 2300 E Broad St\, Richmond\, VA\, 23223\, United States
CATEGORIES:Regular Meeting
ORGANIZER;CN="Church Hill Rotary Club":MAILTO:pennyguiles@churchhillrotary.org
END:VEVENT
BEGIN:VEVENT
DTSTART;TZID=America/New_York:20200210T180000
DTEND;TZID=America/New_York:20200210T193000
DTSTAMP:20260421T073623
CREATED:20161220T002327Z
LAST-MODIFIED:20161220T002327Z
UID:856-1581357600-1581363000@www.churchhillrotary.org
SUMMARY:Regular Rotary Meeting
DESCRIPTION:
URL:https://www.churchhillrotary.org/event/regular-rotary-meeting-2020-02-10/
LOCATION:Patrick Henry Pub & Grill\, 2300 E Broad St\, Richmond\, VA\, 23223\, United States
CATEGORIES:Regular Meeting
ORGANIZER;CN="Church Hill Rotary Club":MAILTO:pennyguiles@churchhillrotary.org
END:VEVENT
BEGIN:VEVENT
DTSTART;TZID=America/New_York:20200203T180000
DTEND;TZID=America/New_York:20200203T193000
DTSTAMP:20260421T073623
CREATED:20161220T002327Z
LAST-MODIFIED:20161220T002327Z
UID:855-1580752800-1580758200@www.churchhillrotary.org
SUMMARY:Regular Rotary Meeting
DESCRIPTION:
URL:https://www.churchhillrotary.org/event/regular-rotary-meeting-2020-02-03/
LOCATION:Patrick Henry Pub & Grill\, 2300 E Broad St\, Richmond\, VA\, 23223\, United States
CATEGORIES:Regular Meeting
ORGANIZER;CN="Church Hill Rotary Club":MAILTO:pennyguiles@churchhillrotary.org
END:VEVENT
BEGIN:VEVENT
DTSTART;TZID=America/New_York:20200127T180000
DTEND;TZID=America/New_York:20200127T193000
DTSTAMP:20260421T073623
CREATED:20161220T002327Z
LAST-MODIFIED:20161220T002327Z
UID:854-1580148000-1580153400@www.churchhillrotary.org
SUMMARY:Regular Rotary Meeting
DESCRIPTION:
URL:https://www.churchhillrotary.org/event/regular-rotary-meeting-2020-01-27/
LOCATION:Patrick Henry Pub & Grill\, 2300 E Broad St\, Richmond\, VA\, 23223\, United States
CATEGORIES:Regular Meeting
ORGANIZER;CN="Church Hill Rotary Club":MAILTO:pennyguiles@churchhillrotary.org
END:VEVENT
BEGIN:VEVENT
DTSTART;TZID=America/New_York:20200120T180000
DTEND;TZID=America/New_York:20200120T193000
DTSTAMP:20260421T073623
CREATED:20161220T002327Z
LAST-MODIFIED:20161220T002327Z
UID:853-1579543200-1579548600@www.churchhillrotary.org
SUMMARY:Regular Rotary Meeting
DESCRIPTION:
URL:https://www.churchhillrotary.org/event/regular-rotary-meeting-2020-01-20/
LOCATION:Patrick Henry Pub & Grill\, 2300 E Broad St\, Richmond\, VA\, 23223\, United States
CATEGORIES:Regular Meeting
ORGANIZER;CN="Church Hill Rotary Club":MAILTO:pennyguiles@churchhillrotary.org
END:VEVENT
BEGIN:VEVENT
DTSTART;TZID=America/New_York:20200113T180000
DTEND;TZID=America/New_York:20200113T193000
DTSTAMP:20260421T073623
CREATED:20161220T002327Z
LAST-MODIFIED:20161220T002327Z
UID:852-1578938400-1578943800@www.churchhillrotary.org
SUMMARY:Regular Rotary Meeting
DESCRIPTION:
URL:https://www.churchhillrotary.org/event/regular-rotary-meeting-2020-01-13/
LOCATION:Patrick Henry Pub & Grill\, 2300 E Broad St\, Richmond\, VA\, 23223\, United States
CATEGORIES:Regular Meeting
ORGANIZER;CN="Church Hill Rotary Club":MAILTO:pennyguiles@churchhillrotary.org
END:VEVENT
BEGIN:VEVENT
DTSTART;TZID=America/New_York:20200106T180000
DTEND;TZID=America/New_York:20200106T193000
DTSTAMP:20260421T073623
CREATED:20161220T002327Z
LAST-MODIFIED:20161220T002327Z
UID:851-1578333600-1578339000@www.churchhillrotary.org
SUMMARY:Regular Rotary Meeting
DESCRIPTION:
URL:https://www.churchhillrotary.org/event/regular-rotary-meeting-2020-01-06/
LOCATION:Patrick Henry Pub & Grill\, 2300 E Broad St\, Richmond\, VA\, 23223\, United States
CATEGORIES:Regular Meeting
ORGANIZER;CN="Church Hill Rotary Club":MAILTO:pennyguiles@churchhillrotary.org
END:VEVENT
BEGIN:VEVENT
DTSTART;TZID=America/New_York:20191230T180000
DTEND;TZID=America/New_York:20191230T193000
DTSTAMP:20260421T073623
CREATED:20161220T002327Z
LAST-MODIFIED:20161220T002327Z
UID:850-1577728800-1577734200@www.churchhillrotary.org
SUMMARY:Regular Rotary Meeting
DESCRIPTION:
URL:https://www.churchhillrotary.org/event/regular-rotary-meeting-2019-12-30/
LOCATION:Patrick Henry Pub & Grill\, 2300 E Broad St\, Richmond\, VA\, 23223\, United States
CATEGORIES:Regular Meeting
ORGANIZER;CN="Church Hill Rotary Club":MAILTO:pennyguiles@churchhillrotary.org
END:VEVENT
BEGIN:VEVENT
DTSTART;TZID=America/New_York:20191223T180000
DTEND;TZID=America/New_York:20191223T193000
DTSTAMP:20260421T073623
CREATED:20161220T002327Z
LAST-MODIFIED:20161220T002327Z
UID:849-1577124000-1577129400@www.churchhillrotary.org
SUMMARY:Regular Rotary Meeting
DESCRIPTION:
URL:https://www.churchhillrotary.org/event/regular-rotary-meeting-2019-12-23/
LOCATION:Patrick Henry Pub & Grill\, 2300 E Broad St\, Richmond\, VA\, 23223\, United States
CATEGORIES:Regular Meeting
ORGANIZER;CN="Church Hill Rotary Club":MAILTO:pennyguiles@churchhillrotary.org
END:VEVENT
BEGIN:VEVENT
DTSTART;TZID=America/New_York:20191216T180000
DTEND;TZID=America/New_York:20191216T193000
DTSTAMP:20260421T073623
CREATED:20161220T002327Z
LAST-MODIFIED:20161220T002327Z
UID:848-1576519200-1576524600@www.churchhillrotary.org
SUMMARY:Regular Rotary Meeting
DESCRIPTION:
URL:https://www.churchhillrotary.org/event/regular-rotary-meeting-2019-12-16/
LOCATION:Patrick Henry Pub & Grill\, 2300 E Broad St\, Richmond\, VA\, 23223\, United States
CATEGORIES:Regular Meeting
ORGANIZER;CN="Church Hill Rotary Club":MAILTO:pennyguiles@churchhillrotary.org
END:VEVENT
BEGIN:VEVENT
DTSTART;TZID=America/New_York:20191209T180000
DTEND;TZID=America/New_York:20191209T193000
DTSTAMP:20260421T073623
CREATED:20161220T002327Z
LAST-MODIFIED:20161220T002327Z
UID:847-1575914400-1575919800@www.churchhillrotary.org
SUMMARY:Regular Rotary Meeting
DESCRIPTION:
URL:https://www.churchhillrotary.org/event/regular-rotary-meeting-2019-12-09/
LOCATION:Patrick Henry Pub & Grill\, 2300 E Broad St\, Richmond\, VA\, 23223\, United States
CATEGORIES:Regular Meeting
ORGANIZER;CN="Church Hill Rotary Club":MAILTO:pennyguiles@churchhillrotary.org
END:VEVENT
BEGIN:VEVENT
DTSTART;TZID=America/New_York:20191202T180000
DTEND;TZID=America/New_York:20191202T193000
DTSTAMP:20260421T073623
CREATED:20161220T002327Z
LAST-MODIFIED:20161220T002327Z
UID:846-1575309600-1575315000@www.churchhillrotary.org
SUMMARY:Regular Rotary Meeting
DESCRIPTION:
URL:https://www.churchhillrotary.org/event/regular-rotary-meeting-2019-12-02/
LOCATION:Patrick Henry Pub & Grill\, 2300 E Broad St\, Richmond\, VA\, 23223\, United States
CATEGORIES:Regular Meeting
ORGANIZER;CN="Church Hill Rotary Club":MAILTO:pennyguiles@churchhillrotary.org
END:VEVENT
BEGIN:VEVENT
DTSTART;TZID=America/New_York:20191125T180000
DTEND;TZID=America/New_York:20191125T193000
DTSTAMP:20260421T073623
CREATED:20161220T002327Z
LAST-MODIFIED:20161220T002327Z
UID:845-1574704800-1574710200@www.churchhillrotary.org
SUMMARY:Regular Rotary Meeting
DESCRIPTION:
URL:https://www.churchhillrotary.org/event/regular-rotary-meeting-2019-11-25/
LOCATION:Patrick Henry Pub & Grill\, 2300 E Broad St\, Richmond\, VA\, 23223\, United States
CATEGORIES:Regular Meeting
ORGANIZER;CN="Church Hill Rotary Club":MAILTO:pennyguiles@churchhillrotary.org
END:VEVENT
BEGIN:VEVENT
DTSTART;TZID=America/New_York:20191118T180000
DTEND;TZID=America/New_York:20191118T193000
DTSTAMP:20260421T073623
CREATED:20161220T002327Z
LAST-MODIFIED:20161220T002327Z
UID:844-1574100000-1574105400@www.churchhillrotary.org
SUMMARY:Regular Rotary Meeting
DESCRIPTION:
URL:https://www.churchhillrotary.org/event/regular-rotary-meeting-2019-11-18/
LOCATION:Patrick Henry Pub & Grill\, 2300 E Broad St\, Richmond\, VA\, 23223\, United States
CATEGORIES:Regular Meeting
ORGANIZER;CN="Church Hill Rotary Club":MAILTO:pennyguiles@churchhillrotary.org
END:VEVENT
BEGIN:VEVENT
DTSTART;TZID=America/New_York:20191111T180000
DTEND;TZID=America/New_York:20191111T193000
DTSTAMP:20260421T073623
CREATED:20161220T002327Z
LAST-MODIFIED:20161220T002327Z
UID:843-1573495200-1573500600@www.churchhillrotary.org
SUMMARY:Regular Rotary Meeting
DESCRIPTION:
URL:https://www.churchhillrotary.org/event/regular-rotary-meeting-2019-11-11/
LOCATION:Patrick Henry Pub & Grill\, 2300 E Broad St\, Richmond\, VA\, 23223\, United States
CATEGORIES:Regular Meeting
ORGANIZER;CN="Church Hill Rotary Club":MAILTO:pennyguiles@churchhillrotary.org
END:VEVENT
BEGIN:VEVENT
DTSTART;TZID=America/New_York:20191104T180000
DTEND;TZID=America/New_York:20191104T193000
DTSTAMP:20260421T073623
CREATED:20161220T002327Z
LAST-MODIFIED:20161220T002327Z
UID:842-1572890400-1572895800@www.churchhillrotary.org
SUMMARY:Regular Rotary Meeting
DESCRIPTION:
URL:https://www.churchhillrotary.org/event/regular-rotary-meeting-2019-11-04/
LOCATION:Patrick Henry Pub & Grill\, 2300 E Broad St\, Richmond\, VA\, 23223\, United States
CATEGORIES:Regular Meeting
ORGANIZER;CN="Church Hill Rotary Club":MAILTO:pennyguiles@churchhillrotary.org
END:VEVENT
BEGIN:VEVENT
DTSTART;TZID=America/New_York:20191028T180000
DTEND;TZID=America/New_York:20191028T193000
DTSTAMP:20260421T073623
CREATED:20161220T002327Z
LAST-MODIFIED:20161220T002327Z
UID:841-1572285600-1572291000@www.churchhillrotary.org
SUMMARY:Regular Rotary Meeting
DESCRIPTION:
URL:https://www.churchhillrotary.org/event/regular-rotary-meeting-2019-10-28/
LOCATION:Patrick Henry Pub & Grill\, 2300 E Broad St\, Richmond\, VA\, 23223\, United States
CATEGORIES:Regular Meeting
ORGANIZER;CN="Church Hill Rotary Club":MAILTO:pennyguiles@churchhillrotary.org
END:VEVENT
BEGIN:VEVENT
DTSTART;TZID=America/New_York:20191021T180000
DTEND;TZID=America/New_York:20191021T193000
DTSTAMP:20260421T073623
CREATED:20161220T002327Z
LAST-MODIFIED:20161220T002327Z
UID:840-1571680800-1571686200@www.churchhillrotary.org
SUMMARY:Regular Rotary Meeting
DESCRIPTION:
URL:https://www.churchhillrotary.org/event/regular-rotary-meeting-2019-10-21/
LOCATION:Patrick Henry Pub & Grill\, 2300 E Broad St\, Richmond\, VA\, 23223\, United States
CATEGORIES:Regular Meeting
ORGANIZER;CN="Church Hill Rotary Club":MAILTO:pennyguiles@churchhillrotary.org
END:VEVENT
BEGIN:VEVENT
DTSTART;TZID=America/New_York:20191014T180000
DTEND;TZID=America/New_York:20191014T193000
DTSTAMP:20260421T073623
CREATED:20161220T002327Z
LAST-MODIFIED:20161220T002327Z
UID:816-1571076000-1571081400@www.churchhillrotary.org
SUMMARY:Regular Rotary Meeting
DESCRIPTION:
URL:https://www.churchhillrotary.org/event/regular-rotary-meeting-2019-10-14/
LOCATION:Patrick Henry Pub & Grill\, 2300 E Broad St\, Richmond\, VA\, 23223\, United States
CATEGORIES:Regular Meeting
ORGANIZER;CN="Church Hill Rotary Club":MAILTO:pennyguiles@churchhillrotary.org
END:VEVENT
BEGIN:VEVENT
DTSTART;TZID=America/New_York:20191007T180000
DTEND;TZID=America/New_York:20191007T193000
DTSTAMP:20260421T073623
CREATED:20161220T002327Z
LAST-MODIFIED:20161220T002327Z
UID:814-1570471200-1570476600@www.churchhillrotary.org
SUMMARY:Regular Rotary Meeting
DESCRIPTION:
URL:https://www.churchhillrotary.org/event/regular-rotary-meeting-2019-10-07/
LOCATION:Patrick Henry Pub & Grill\, 2300 E Broad St\, Richmond\, VA\, 23223\, United States
CATEGORIES:Regular Meeting
ORGANIZER;CN="Church Hill Rotary Club":MAILTO:pennyguiles@churchhillrotary.org
END:VEVENT
BEGIN:VEVENT
DTSTART;TZID=America/New_York:20190930T180000
DTEND;TZID=America/New_York:20190930T193000
DTSTAMP:20260421T073623
CREATED:20161220T002327Z
LAST-MODIFIED:20161220T002327Z
UID:813-1569866400-1569871800@www.churchhillrotary.org
SUMMARY:Regular Rotary Meeting
DESCRIPTION:
URL:https://www.churchhillrotary.org/event/regular-rotary-meeting-2019-09-30/
LOCATION:Patrick Henry Pub & Grill\, 2300 E Broad St\, Richmond\, VA\, 23223\, United States
CATEGORIES:Regular Meeting
ORGANIZER;CN="Church Hill Rotary Club":MAILTO:pennyguiles@churchhillrotary.org
END:VEVENT
BEGIN:VEVENT
DTSTART;TZID=America/New_York:20190923T180000
DTEND;TZID=America/New_York:20190923T193000
DTSTAMP:20260421T073623
CREATED:20161220T002327Z
LAST-MODIFIED:20161220T002327Z
UID:812-1569261600-1569267000@www.churchhillrotary.org
SUMMARY:Regular Rotary Meeting
DESCRIPTION:
URL:https://www.churchhillrotary.org/event/regular-rotary-meeting-2019-09-23/
LOCATION:Patrick Henry Pub & Grill\, 2300 E Broad St\, Richmond\, VA\, 23223\, United States
CATEGORIES:Regular Meeting
ORGANIZER;CN="Church Hill Rotary Club":MAILTO:pennyguiles@churchhillrotary.org
END:VEVENT
BEGIN:VEVENT
DTSTART;TZID=America/New_York:20190916T180000
DTEND;TZID=America/New_York:20190916T193000
DTSTAMP:20260421T073623
CREATED:20161220T002327Z
LAST-MODIFIED:20161220T002327Z
UID:811-1568656800-1568662200@www.churchhillrotary.org
SUMMARY:Regular Rotary Meeting
DESCRIPTION:
URL:https://www.churchhillrotary.org/event/regular-rotary-meeting-2019-09-16/
LOCATION:Patrick Henry Pub & Grill\, 2300 E Broad St\, Richmond\, VA\, 23223\, United States
CATEGORIES:Regular Meeting
ORGANIZER;CN="Church Hill Rotary Club":MAILTO:pennyguiles@churchhillrotary.org
END:VEVENT
BEGIN:VEVENT
DTSTART;TZID=America/New_York:20190909T180000
DTEND;TZID=America/New_York:20190909T193000
DTSTAMP:20260421T073623
CREATED:20161220T002327Z
LAST-MODIFIED:20161220T002327Z
UID:810-1568052000-1568057400@www.churchhillrotary.org
SUMMARY:Regular Rotary Meeting
DESCRIPTION:
URL:https://www.churchhillrotary.org/event/regular-rotary-meeting-2019-09-09/
LOCATION:Patrick Henry Pub & Grill\, 2300 E Broad St\, Richmond\, VA\, 23223\, United States
CATEGORIES:Regular Meeting
ORGANIZER;CN="Church Hill Rotary Club":MAILTO:pennyguiles@churchhillrotary.org
END:VEVENT
BEGIN:VEVENT
DTSTART;TZID=America/New_York:20190902T180000
DTEND;TZID=America/New_York:20190902T193000
DTSTAMP:20260421T073623
CREATED:20161220T002327Z
LAST-MODIFIED:20161220T002327Z
UID:809-1567447200-1567452600@www.churchhillrotary.org
SUMMARY:Regular Rotary Meeting
DESCRIPTION:
URL:https://www.churchhillrotary.org/event/regular-rotary-meeting-2019-09-02/
LOCATION:Patrick Henry Pub & Grill\, 2300 E Broad St\, Richmond\, VA\, 23223\, United States
CATEGORIES:Regular Meeting
ORGANIZER;CN="Church Hill Rotary Club":MAILTO:pennyguiles@churchhillrotary.org
END:VEVENT
BEGIN:VEVENT
DTSTART;TZID=America/New_York:20190826T180000
DTEND;TZID=America/New_York:20190826T193000
DTSTAMP:20260421T073623
CREATED:20161220T002327Z
LAST-MODIFIED:20161220T002327Z
UID:808-1566842400-1566847800@www.churchhillrotary.org
SUMMARY:Regular Rotary Meeting
DESCRIPTION:
URL:https://www.churchhillrotary.org/event/regular-rotary-meeting-2019-08-26/
LOCATION:Patrick Henry Pub & Grill\, 2300 E Broad St\, Richmond\, VA\, 23223\, United States
CATEGORIES:Regular Meeting
ORGANIZER;CN="Church Hill Rotary Club":MAILTO:pennyguiles@churchhillrotary.org
END:VEVENT
END:VCALENDAR