BEGIN:VCALENDAR
VERSION:2.0
PRODID:-//Church Hill Rotary - ECPv6.15.3//NONSGML v1.0//EN
CALSCALE:GREGORIAN
METHOD:PUBLISH
X-ORIGINAL-URL:https://www.churchhillrotary.org
X-WR-CALDESC:Events for Church Hill Rotary
REFRESH-INTERVAL;VALUE=DURATION:PT1H
X-Robots-Tag:noindex
X-PUBLISHED-TTL:PT1H
BEGIN:VTIMEZONE
TZID:America/New_York
BEGIN:DAYLIGHT
TZOFFSETFROM:-0500
TZOFFSETTO:-0400
TZNAME:EDT
DTSTART:20170312T070000
END:DAYLIGHT
BEGIN:STANDARD
TZOFFSETFROM:-0400
TZOFFSETTO:-0500
TZNAME:EST
DTSTART:20171105T060000
END:STANDARD
BEGIN:DAYLIGHT
TZOFFSETFROM:-0500
TZOFFSETTO:-0400
TZNAME:EDT
DTSTART:20180311T070000
END:DAYLIGHT
BEGIN:STANDARD
TZOFFSETFROM:-0400
TZOFFSETTO:-0500
TZNAME:EST
DTSTART:20181104T060000
END:STANDARD
END:VTIMEZONE
BEGIN:VEVENT
DTSTART;TZID=America/New_York:20180205T180000
DTEND;TZID=America/New_York:20180205T193000
DTSTAMP:20260424T092752
CREATED:20161220T002327Z
LAST-MODIFIED:20170601T155811Z
UID:422-1517853600-1517859000@www.churchhillrotary.org
SUMMARY:Regular Rotary Meeting
DESCRIPTION:
URL:https://www.churchhillrotary.org/event/regular-rotary-meeting-2018-02-05/
LOCATION:Patrick Henry Pub & Grill\, 2300 E Broad St\, Richmond\, VA\, 23223\, United States
CATEGORIES:Regular Meeting
ORGANIZER;CN="Church Hill Rotary Club":MAILTO:pennyguiles@churchhillrotary.org
END:VEVENT
BEGIN:VEVENT
DTSTART;TZID=America/New_York:20180129T180000
DTEND;TZID=America/New_York:20180129T193000
DTSTAMP:20260424T092752
CREATED:20161220T002327Z
LAST-MODIFIED:20170601T155811Z
UID:421-1517248800-1517254200@www.churchhillrotary.org
SUMMARY:Regular Rotary Meeting
DESCRIPTION:
URL:https://www.churchhillrotary.org/event/regular-rotary-meeting-2018-01-29/
LOCATION:Patrick Henry Pub & Grill\, 2300 E Broad St\, Richmond\, VA\, 23223\, United States
CATEGORIES:Regular Meeting
ORGANIZER;CN="Church Hill Rotary Club":MAILTO:pennyguiles@churchhillrotary.org
END:VEVENT
BEGIN:VEVENT
DTSTART;TZID=America/New_York:20180122T180000
DTEND;TZID=America/New_York:20180122T193000
DTSTAMP:20260424T092752
CREATED:20161220T002327Z
LAST-MODIFIED:20170601T155810Z
UID:420-1516644000-1516649400@www.churchhillrotary.org
SUMMARY:Regular Rotary Meeting
DESCRIPTION:
URL:https://www.churchhillrotary.org/event/regular-rotary-meeting-2018-01-22/
LOCATION:Patrick Henry Pub & Grill\, 2300 E Broad St\, Richmond\, VA\, 23223\, United States
CATEGORIES:Regular Meeting
ORGANIZER;CN="Church Hill Rotary Club":MAILTO:pennyguiles@churchhillrotary.org
END:VEVENT
BEGIN:VEVENT
DTSTART;TZID=America/New_York:20180115T180000
DTEND;TZID=America/New_York:20180115T193000
DTSTAMP:20260424T092752
CREATED:20161220T002327Z
LAST-MODIFIED:20170601T155810Z
UID:419-1516039200-1516044600@www.churchhillrotary.org
SUMMARY:Regular Rotary Meeting
DESCRIPTION:
URL:https://www.churchhillrotary.org/event/regular-rotary-meeting-2018-01-15/
LOCATION:Patrick Henry Pub & Grill\, 2300 E Broad St\, Richmond\, VA\, 23223\, United States
CATEGORIES:Regular Meeting
ORGANIZER;CN="Church Hill Rotary Club":MAILTO:pennyguiles@churchhillrotary.org
END:VEVENT
BEGIN:VEVENT
DTSTART;TZID=America/New_York:20180108T180000
DTEND;TZID=America/New_York:20180108T193000
DTSTAMP:20260424T092752
CREATED:20161220T002327Z
LAST-MODIFIED:20170601T155809Z
UID:418-1515434400-1515439800@www.churchhillrotary.org
SUMMARY:Regular Rotary Meeting
DESCRIPTION:
URL:https://www.churchhillrotary.org/event/regular-rotary-meeting-2018-01-08/
LOCATION:Patrick Henry Pub & Grill\, 2300 E Broad St\, Richmond\, VA\, 23223\, United States
CATEGORIES:Regular Meeting
ORGANIZER;CN="Church Hill Rotary Club":MAILTO:pennyguiles@churchhillrotary.org
END:VEVENT
BEGIN:VEVENT
DTSTART;TZID=America/New_York:20180101T180000
DTEND;TZID=America/New_York:20180101T193000
DTSTAMP:20260424T092752
CREATED:20161220T002327Z
LAST-MODIFIED:20170601T155809Z
UID:417-1514829600-1514835000@www.churchhillrotary.org
SUMMARY:Regular Rotary Meeting
DESCRIPTION:
URL:https://www.churchhillrotary.org/event/regular-rotary-meeting-2018-01-01/
LOCATION:Patrick Henry Pub & Grill\, 2300 E Broad St\, Richmond\, VA\, 23223\, United States
CATEGORIES:Regular Meeting
ORGANIZER;CN="Church Hill Rotary Club":MAILTO:pennyguiles@churchhillrotary.org
END:VEVENT
BEGIN:VEVENT
DTSTART;TZID=America/New_York:20171225T180000
DTEND;TZID=America/New_York:20171225T193000
DTSTAMP:20260424T092752
CREATED:20161220T002327Z
LAST-MODIFIED:20170601T155808Z
UID:416-1514224800-1514230200@www.churchhillrotary.org
SUMMARY:Regular Rotary Meeting
DESCRIPTION:
URL:https://www.churchhillrotary.org/event/regular-rotary-meeting-2017-12-25/
LOCATION:Patrick Henry Pub & Grill\, 2300 E Broad St\, Richmond\, VA\, 23223\, United States
CATEGORIES:Regular Meeting
ORGANIZER;CN="Church Hill Rotary Club":MAILTO:pennyguiles@churchhillrotary.org
END:VEVENT
BEGIN:VEVENT
DTSTART;TZID=America/New_York:20171218T180000
DTEND;TZID=America/New_York:20171218T193000
DTSTAMP:20260424T092752
CREATED:20161220T002327Z
LAST-MODIFIED:20170601T155808Z
UID:415-1513620000-1513625400@www.churchhillrotary.org
SUMMARY:Regular Rotary Meeting
DESCRIPTION:
URL:https://www.churchhillrotary.org/event/regular-rotary-meeting-2017-12-18/
LOCATION:Patrick Henry Pub & Grill\, 2300 E Broad St\, Richmond\, VA\, 23223\, United States
CATEGORIES:Regular Meeting
ORGANIZER;CN="Church Hill Rotary Club":MAILTO:pennyguiles@churchhillrotary.org
END:VEVENT
BEGIN:VEVENT
DTSTART;TZID=America/New_York:20171211T180000
DTEND;TZID=America/New_York:20171211T193000
DTSTAMP:20260424T092752
CREATED:20161220T002327Z
LAST-MODIFIED:20170601T155808Z
UID:414-1513015200-1513020600@www.churchhillrotary.org
SUMMARY:Regular Rotary Meeting
DESCRIPTION:
URL:https://www.churchhillrotary.org/event/regular-rotary-meeting-2017-12-11/
LOCATION:Patrick Henry Pub & Grill\, 2300 E Broad St\, Richmond\, VA\, 23223\, United States
CATEGORIES:Regular Meeting
ORGANIZER;CN="Church Hill Rotary Club":MAILTO:pennyguiles@churchhillrotary.org
END:VEVENT
BEGIN:VEVENT
DTSTART;TZID=America/New_York:20171204T180000
DTEND;TZID=America/New_York:20171204T193000
DTSTAMP:20260424T092752
CREATED:20161220T002327Z
LAST-MODIFIED:20170601T155807Z
UID:413-1512410400-1512415800@www.churchhillrotary.org
SUMMARY:Regular Rotary Meeting
DESCRIPTION:
URL:https://www.churchhillrotary.org/event/regular-rotary-meeting-2017-12-04/
LOCATION:Patrick Henry Pub & Grill\, 2300 E Broad St\, Richmond\, VA\, 23223\, United States
CATEGORIES:Regular Meeting
ORGANIZER;CN="Church Hill Rotary Club":MAILTO:pennyguiles@churchhillrotary.org
END:VEVENT
BEGIN:VEVENT
DTSTART;TZID=America/New_York:20171127T180000
DTEND;TZID=America/New_York:20171127T193000
DTSTAMP:20260424T092752
CREATED:20161220T002327Z
LAST-MODIFIED:20170601T155807Z
UID:412-1511805600-1511811000@www.churchhillrotary.org
SUMMARY:Regular Rotary Meeting
DESCRIPTION:
URL:https://www.churchhillrotary.org/event/regular-rotary-meeting-2017-11-27/
LOCATION:Patrick Henry Pub & Grill\, 2300 E Broad St\, Richmond\, VA\, 23223\, United States
CATEGORIES:Regular Meeting
ORGANIZER;CN="Church Hill Rotary Club":MAILTO:pennyguiles@churchhillrotary.org
END:VEVENT
BEGIN:VEVENT
DTSTART;TZID=America/New_York:20171120T180000
DTEND;TZID=America/New_York:20171120T193000
DTSTAMP:20260424T092752
CREATED:20161220T002327Z
LAST-MODIFIED:20170601T155807Z
UID:411-1511200800-1511206200@www.churchhillrotary.org
SUMMARY:Regular Rotary Meeting
DESCRIPTION:
URL:https://www.churchhillrotary.org/event/regular-rotary-meeting-2017-11-20/
LOCATION:Patrick Henry Pub & Grill\, 2300 E Broad St\, Richmond\, VA\, 23223\, United States
CATEGORIES:Regular Meeting
ORGANIZER;CN="Church Hill Rotary Club":MAILTO:pennyguiles@churchhillrotary.org
END:VEVENT
BEGIN:VEVENT
DTSTART;TZID=America/New_York:20171113T180000
DTEND;TZID=America/New_York:20171113T193000
DTSTAMP:20260424T092752
CREATED:20161220T002327Z
LAST-MODIFIED:20170601T155806Z
UID:410-1510596000-1510601400@www.churchhillrotary.org
SUMMARY:Regular Rotary Meeting
DESCRIPTION:
URL:https://www.churchhillrotary.org/event/regular-rotary-meeting-2017-11-13/
LOCATION:Patrick Henry Pub & Grill\, 2300 E Broad St\, Richmond\, VA\, 23223\, United States
CATEGORIES:Regular Meeting
ORGANIZER;CN="Church Hill Rotary Club":MAILTO:pennyguiles@churchhillrotary.org
END:VEVENT
BEGIN:VEVENT
DTSTART;TZID=America/New_York:20171106T180000
DTEND;TZID=America/New_York:20171106T193000
DTSTAMP:20260424T092752
CREATED:20161220T002327Z
LAST-MODIFIED:20170601T155806Z
UID:409-1509991200-1509996600@www.churchhillrotary.org
SUMMARY:Regular Rotary Meeting
DESCRIPTION:
URL:https://www.churchhillrotary.org/event/regular-rotary-meeting-2017-11-06/
LOCATION:Patrick Henry Pub & Grill\, 2300 E Broad St\, Richmond\, VA\, 23223\, United States
CATEGORIES:Regular Meeting
ORGANIZER;CN="Church Hill Rotary Club":MAILTO:pennyguiles@churchhillrotary.org
END:VEVENT
BEGIN:VEVENT
DTSTART;TZID=America/New_York:20171023T180000
DTEND;TZID=America/New_York:20171023T193000
DTSTAMP:20260424T092752
CREATED:20161220T002327Z
LAST-MODIFIED:20171016T233527Z
UID:407-1508781600-1508787000@www.churchhillrotary.org
SUMMARY:Regular Rotary Meeting - Speaker: Bill Farrar of the ACLU of VA
DESCRIPTION:
URL:https://www.churchhillrotary.org/event/regular-rotary-meeting-2017-10-23/
LOCATION:Patrick Henry Pub & Grill\, 2300 E Broad St\, Richmond\, VA\, 23223\, United States
CATEGORIES:Regular Meeting
ORGANIZER;CN="Church Hill Rotary Club":MAILTO:pennyguiles@churchhillrotary.org
END:VEVENT
BEGIN:VEVENT
DTSTART;TZID=America/New_York:20171016T180000
DTEND;TZID=America/New_York:20171016T193000
DTSTAMP:20260424T092752
CREATED:20161220T002327Z
LAST-MODIFIED:20170601T155804Z
UID:406-1508176800-1508182200@www.churchhillrotary.org
SUMMARY:Regular Rotary Meeting
DESCRIPTION:
URL:https://www.churchhillrotary.org/event/regular-rotary-meeting-2017-10-16/
LOCATION:Patrick Henry Pub & Grill\, 2300 E Broad St\, Richmond\, VA\, 23223\, United States
CATEGORIES:Regular Meeting
ORGANIZER;CN="Church Hill Rotary Club":MAILTO:pennyguiles@churchhillrotary.org
END:VEVENT
BEGIN:VEVENT
DTSTART;TZID=America/New_York:20171009T180000
DTEND;TZID=America/New_York:20171009T193000
DTSTAMP:20260424T092752
CREATED:20161220T002327Z
LAST-MODIFIED:20170601T155804Z
UID:405-1507572000-1507577400@www.churchhillrotary.org
SUMMARY:Regular Rotary Meeting
DESCRIPTION:
URL:https://www.churchhillrotary.org/event/regular-rotary-meeting-2017-10-09/
LOCATION:Patrick Henry Pub & Grill\, 2300 E Broad St\, Richmond\, VA\, 23223\, United States
CATEGORIES:Regular Meeting
ORGANIZER;CN="Church Hill Rotary Club":MAILTO:pennyguiles@churchhillrotary.org
END:VEVENT
BEGIN:VEVENT
DTSTART;TZID=America/New_York:20171002T180000
DTEND;TZID=America/New_York:20171002T193000
DTSTAMP:20260424T092752
CREATED:20161220T002327Z
LAST-MODIFIED:20170621T033117Z
UID:404-1506967200-1506972600@www.churchhillrotary.org
SUMMARY:Regular Rotary Meeting
DESCRIPTION:Karri Peifer – Richmond.com Deputy Editor and Food/Restaurant Writer
URL:https://www.churchhillrotary.org/event/regular-rotary-meeting-2017-10-02/
LOCATION:Patrick Henry Pub & Grill\, 2300 E Broad St\, Richmond\, VA\, 23223\, United States
CATEGORIES:Regular Meeting
ORGANIZER;CN="Church Hill Rotary Club":MAILTO:pennyguiles@churchhillrotary.org
END:VEVENT
BEGIN:VEVENT
DTSTART;TZID=America/New_York:20170925T180000
DTEND;TZID=America/New_York:20170925T193000
DTSTAMP:20260424T092752
CREATED:20161220T002327Z
LAST-MODIFIED:20170601T155803Z
UID:403-1506362400-1506367800@www.churchhillrotary.org
SUMMARY:Regular Rotary Meeting
DESCRIPTION:
URL:https://www.churchhillrotary.org/event/regular-rotary-meeting-2017-09-25/
LOCATION:Patrick Henry Pub & Grill\, 2300 E Broad St\, Richmond\, VA\, 23223\, United States
CATEGORIES:Regular Meeting
ORGANIZER;CN="Church Hill Rotary Club":MAILTO:pennyguiles@churchhillrotary.org
END:VEVENT
BEGIN:VEVENT
DTSTART;TZID=America/New_York:20170918T180000
DTEND;TZID=America/New_York:20170918T193000
DTSTAMP:20260424T092752
CREATED:20161220T002327Z
LAST-MODIFIED:20170601T155803Z
UID:402-1505757600-1505763000@www.churchhillrotary.org
SUMMARY:Regular Rotary Meeting
DESCRIPTION:
URL:https://www.churchhillrotary.org/event/regular-rotary-meeting-2017-09-18/
LOCATION:Patrick Henry Pub & Grill\, 2300 E Broad St\, Richmond\, VA\, 23223\, United States
CATEGORIES:Regular Meeting
ORGANIZER;CN="Church Hill Rotary Club":MAILTO:pennyguiles@churchhillrotary.org
END:VEVENT
BEGIN:VEVENT
DTSTART;TZID=America/New_York:20170911T180000
DTEND;TZID=America/New_York:20170911T193000
DTSTAMP:20260424T092752
CREATED:20161220T002327Z
LAST-MODIFIED:20170621T032915Z
UID:401-1505152800-1505158200@www.churchhillrotary.org
SUMMARY:Regular Rotary Meeting
DESCRIPTION:Speaker: Tricia Noel\, Geneolgist and House Historian
URL:https://www.churchhillrotary.org/event/regular-rotary-meeting-2017-09-11/
LOCATION:Patrick Henry Pub & Grill\, 2300 E Broad St\, Richmond\, VA\, 23223\, United States
CATEGORIES:Regular Meeting
ORGANIZER;CN="Church Hill Rotary Club":MAILTO:pennyguiles@churchhillrotary.org
END:VEVENT
BEGIN:VEVENT
DTSTART;TZID=America/New_York:20170821T180000
DTEND;TZID=America/New_York:20170821T193000
DTSTAMP:20260424T092752
CREATED:20161220T002327Z
LAST-MODIFIED:20170601T155801Z
UID:398-1503338400-1503343800@www.churchhillrotary.org
SUMMARY:Regular Rotary Meeting
DESCRIPTION:
URL:https://www.churchhillrotary.org/event/regular-rotary-meeting-2017-08-21/
LOCATION:Patrick Henry Pub & Grill\, 2300 E Broad St\, Richmond\, VA\, 23223\, United States
CATEGORIES:Regular Meeting
ORGANIZER;CN="Church Hill Rotary Club":MAILTO:pennyguiles@churchhillrotary.org
END:VEVENT
BEGIN:VEVENT
DTSTART;TZID=America/New_York:20170814T180000
DTEND;TZID=America/New_York:20170814T193000
DTSTAMP:20260424T092752
CREATED:20161220T002327Z
LAST-MODIFIED:20170621T032500Z
UID:397-1502733600-1502739000@www.churchhillrotary.org
SUMMARY:Regular Rotary Meeting
DESCRIPTION:Speaker: Art Wingo – Chimborazo Hospital and National Park. \n 
URL:https://www.churchhillrotary.org/event/regular-rotary-meeting-2017-08-14/
LOCATION:Patrick Henry Pub & Grill\, 2300 E Broad St\, Richmond\, VA\, 23223\, United States
CATEGORIES:Regular Meeting
ORGANIZER;CN="Church Hill Rotary Club":MAILTO:pennyguiles@churchhillrotary.org
END:VEVENT
BEGIN:VEVENT
DTSTART;TZID=America/New_York:20170807T180000
DTEND;TZID=America/New_York:20170807T193000
DTSTAMP:20260424T092752
CREATED:20161220T002327Z
LAST-MODIFIED:20170621T032356Z
UID:396-1502128800-1502134200@www.churchhillrotary.org
SUMMARY:Regular Rotary Meeting
DESCRIPTION:District Rotary Governor’s visit and Board Meeting
URL:https://www.churchhillrotary.org/event/regular-rotary-meeting-2017-08-07/
LOCATION:Patrick Henry Pub & Grill\, 2300 E Broad St\, Richmond\, VA\, 23223\, United States
CATEGORIES:Regular Meeting
ORGANIZER;CN="Church Hill Rotary Club":MAILTO:pennyguiles@churchhillrotary.org
END:VEVENT
BEGIN:VEVENT
DTSTART;TZID=America/New_York:20170731T180000
DTEND;TZID=America/New_York:20170731T193000
DTSTAMP:20260424T092752
CREATED:20161220T002327Z
LAST-MODIFIED:20170601T155759Z
UID:395-1501524000-1501529400@www.churchhillrotary.org
SUMMARY:Regular Rotary Meeting
DESCRIPTION:
URL:https://www.churchhillrotary.org/event/regular-rotary-meeting-2017-07-31/
LOCATION:Patrick Henry Pub & Grill\, 2300 E Broad St\, Richmond\, VA\, 23223\, United States
CATEGORIES:Regular Meeting
ORGANIZER;CN="Church Hill Rotary Club":MAILTO:pennyguiles@churchhillrotary.org
END:VEVENT
BEGIN:VEVENT
DTSTART;TZID=America/New_York:20170724T180000
DTEND;TZID=America/New_York:20170724T193000
DTSTAMP:20260424T092752
CREATED:20161220T002327Z
LAST-MODIFIED:20170601T155759Z
UID:394-1500919200-1500924600@www.churchhillrotary.org
SUMMARY:Regular Rotary Meeting
DESCRIPTION:
URL:https://www.churchhillrotary.org/event/regular-rotary-meeting-2017-07-24/
LOCATION:Patrick Henry Pub & Grill\, 2300 E Broad St\, Richmond\, VA\, 23223\, United States
CATEGORIES:Regular Meeting
ORGANIZER;CN="Church Hill Rotary Club":MAILTO:pennyguiles@churchhillrotary.org
END:VEVENT
BEGIN:VEVENT
DTSTART;TZID=America/New_York:20170717T180000
DTEND;TZID=America/New_York:20170717T193000
DTSTAMP:20260424T092752
CREATED:20161220T002327Z
LAST-MODIFIED:20170621T032227Z
UID:393-1500314400-1500319800@www.churchhillrotary.org
SUMMARY:Regular Rotary Meeting
DESCRIPTION:Speaker: John Schuck from Evergreen Cemetery.
URL:https://www.churchhillrotary.org/event/regular-rotary-meeting-2017-07-17/
LOCATION:Patrick Henry Pub & Grill\, 2300 E Broad St\, Richmond\, VA\, 23223\, United States
CATEGORIES:Regular Meeting
ORGANIZER;CN="Church Hill Rotary Club":MAILTO:pennyguiles@churchhillrotary.org
END:VEVENT
BEGIN:VEVENT
DTSTART;TZID=America/New_York:20170710T180000
DTEND;TZID=America/New_York:20170710T193000
DTSTAMP:20260424T092752
CREATED:20161220T002327Z
LAST-MODIFIED:20170621T032101Z
UID:392-1499709600-1499715000@www.churchhillrotary.org
SUMMARY:Regular Rotary Meeting
DESCRIPTION:Year in review meeting. Come see what we have accomplished so far and what we’re planning on accomplishing the rest of the year.
URL:https://www.churchhillrotary.org/event/regular-rotary-meeting-2017-07-10/
LOCATION:Patrick Henry Pub & Grill\, 2300 E Broad St\, Richmond\, VA\, 23223\, United States
CATEGORIES:Regular Meeting
ORGANIZER;CN="Church Hill Rotary Club":MAILTO:pennyguiles@churchhillrotary.org
END:VEVENT
BEGIN:VEVENT
DTSTART;TZID=America/New_York:20170619T180000
DTEND;TZID=America/New_York:20170619T193000
DTSTAMP:20260424T092752
CREATED:20161220T002327Z
LAST-MODIFIED:20170601T162021Z
UID:389-1497895200-1497900600@www.churchhillrotary.org
SUMMARY:Regular Rotary Meeting
DESCRIPTION:Stephen Lock of the ALS Association will come to speak with the club.
URL:https://www.churchhillrotary.org/event/regular-rotary-meeting-2017-06-19/
LOCATION:Patrick Henry Pub & Grill\, 2300 E Broad St\, Richmond\, VA\, 23223\, United States
CATEGORIES:Regular Meeting
ORGANIZER;CN="Church Hill Rotary Club":MAILTO:pennyguiles@churchhillrotary.org
END:VEVENT
BEGIN:VEVENT
DTSTART;TZID=America/New_York:20170612T180000
DTEND;TZID=America/New_York:20170612T193000
DTSTAMP:20260424T092752
CREATED:20161220T002327Z
LAST-MODIFIED:20170601T161753Z
UID:388-1497290400-1497295800@www.churchhillrotary.org
SUMMARY:Regular Rotary Meeting
DESCRIPTION:Club Committee Assembly – see how Rotary is helping our neighborhood.
URL:https://www.churchhillrotary.org/event/regular-rotary-meeting-2017-06-12/
LOCATION:Patrick Henry Pub & Grill\, 2300 E Broad St\, Richmond\, VA\, 23223\, United States
CATEGORIES:Regular Meeting
ORGANIZER;CN="Church Hill Rotary Club":MAILTO:pennyguiles@churchhillrotary.org
END:VEVENT
END:VCALENDAR