BEGIN:VCALENDAR
VERSION:2.0
PRODID:-//Church Hill Rotary - ECPv6.15.3//NONSGML v1.0//EN
CALSCALE:GREGORIAN
METHOD:PUBLISH
X-WR-CALNAME:Church Hill Rotary
X-ORIGINAL-URL:https://www.churchhillrotary.org
X-WR-CALDESC:Events for Church Hill Rotary
REFRESH-INTERVAL;VALUE=DURATION:PT1H
X-Robots-Tag:noindex
X-PUBLISHED-TTL:PT1H
BEGIN:VTIMEZONE
TZID:America/New_York
BEGIN:DAYLIGHT
TZOFFSETFROM:-0500
TZOFFSETTO:-0400
TZNAME:EDT
DTSTART:20190310T070000
END:DAYLIGHT
BEGIN:STANDARD
TZOFFSETFROM:-0400
TZOFFSETTO:-0500
TZNAME:EST
DTSTART:20191103T060000
END:STANDARD
END:VTIMEZONE
BEGIN:VEVENT
DTSTART;TZID=America/New_York:20191028T180000
DTEND;TZID=America/New_York:20191028T193000
DTSTAMP:20260421T110551
CREATED:20161220T002327Z
LAST-MODIFIED:20161220T002327Z
UID:841-1572285600-1572291000@www.churchhillrotary.org
SUMMARY:Regular Rotary Meeting
DESCRIPTION:
URL:https://www.churchhillrotary.org/event/regular-rotary-meeting-2019-10-28/
LOCATION:Patrick Henry Pub & Grill\, 2300 E Broad St\, Richmond\, VA\, 23223\, United States
CATEGORIES:Regular Meeting
ORGANIZER;CN="Church Hill Rotary Club":MAILTO:pennyguiles@churchhillrotary.org
END:VEVENT
BEGIN:VEVENT
DTSTART;TZID=America/New_York:20191021T180000
DTEND;TZID=America/New_York:20191021T193000
DTSTAMP:20260421T110551
CREATED:20161220T002327Z
LAST-MODIFIED:20161220T002327Z
UID:840-1571680800-1571686200@www.churchhillrotary.org
SUMMARY:Regular Rotary Meeting
DESCRIPTION:
URL:https://www.churchhillrotary.org/event/regular-rotary-meeting-2019-10-21/
LOCATION:Patrick Henry Pub & Grill\, 2300 E Broad St\, Richmond\, VA\, 23223\, United States
CATEGORIES:Regular Meeting
ORGANIZER;CN="Church Hill Rotary Club":MAILTO:pennyguiles@churchhillrotary.org
END:VEVENT
BEGIN:VEVENT
DTSTART;TZID=America/New_York:20191014T180000
DTEND;TZID=America/New_York:20191014T193000
DTSTAMP:20260421T110551
CREATED:20161220T002327Z
LAST-MODIFIED:20161220T002327Z
UID:816-1571076000-1571081400@www.churchhillrotary.org
SUMMARY:Regular Rotary Meeting
DESCRIPTION:
URL:https://www.churchhillrotary.org/event/regular-rotary-meeting-2019-10-14/
LOCATION:Patrick Henry Pub & Grill\, 2300 E Broad St\, Richmond\, VA\, 23223\, United States
CATEGORIES:Regular Meeting
ORGANIZER;CN="Church Hill Rotary Club":MAILTO:pennyguiles@churchhillrotary.org
END:VEVENT
BEGIN:VEVENT
DTSTART;TZID=America/New_York:20191007T180000
DTEND;TZID=America/New_York:20191007T193000
DTSTAMP:20260421T110551
CREATED:20161220T002327Z
LAST-MODIFIED:20161220T002327Z
UID:814-1570471200-1570476600@www.churchhillrotary.org
SUMMARY:Regular Rotary Meeting
DESCRIPTION:
URL:https://www.churchhillrotary.org/event/regular-rotary-meeting-2019-10-07/
LOCATION:Patrick Henry Pub & Grill\, 2300 E Broad St\, Richmond\, VA\, 23223\, United States
CATEGORIES:Regular Meeting
ORGANIZER;CN="Church Hill Rotary Club":MAILTO:pennyguiles@churchhillrotary.org
END:VEVENT
BEGIN:VEVENT
DTSTART;TZID=America/New_York:20190930T180000
DTEND;TZID=America/New_York:20190930T193000
DTSTAMP:20260421T110551
CREATED:20161220T002327Z
LAST-MODIFIED:20161220T002327Z
UID:813-1569866400-1569871800@www.churchhillrotary.org
SUMMARY:Regular Rotary Meeting
DESCRIPTION:
URL:https://www.churchhillrotary.org/event/regular-rotary-meeting-2019-09-30/
LOCATION:Patrick Henry Pub & Grill\, 2300 E Broad St\, Richmond\, VA\, 23223\, United States
CATEGORIES:Regular Meeting
ORGANIZER;CN="Church Hill Rotary Club":MAILTO:pennyguiles@churchhillrotary.org
END:VEVENT
BEGIN:VEVENT
DTSTART;TZID=America/New_York:20190923T180000
DTEND;TZID=America/New_York:20190923T193000
DTSTAMP:20260421T110551
CREATED:20161220T002327Z
LAST-MODIFIED:20161220T002327Z
UID:812-1569261600-1569267000@www.churchhillrotary.org
SUMMARY:Regular Rotary Meeting
DESCRIPTION:
URL:https://www.churchhillrotary.org/event/regular-rotary-meeting-2019-09-23/
LOCATION:Patrick Henry Pub & Grill\, 2300 E Broad St\, Richmond\, VA\, 23223\, United States
CATEGORIES:Regular Meeting
ORGANIZER;CN="Church Hill Rotary Club":MAILTO:pennyguiles@churchhillrotary.org
END:VEVENT
BEGIN:VEVENT
DTSTART;TZID=America/New_York:20190916T180000
DTEND;TZID=America/New_York:20190916T193000
DTSTAMP:20260421T110551
CREATED:20161220T002327Z
LAST-MODIFIED:20161220T002327Z
UID:811-1568656800-1568662200@www.churchhillrotary.org
SUMMARY:Regular Rotary Meeting
DESCRIPTION:
URL:https://www.churchhillrotary.org/event/regular-rotary-meeting-2019-09-16/
LOCATION:Patrick Henry Pub & Grill\, 2300 E Broad St\, Richmond\, VA\, 23223\, United States
CATEGORIES:Regular Meeting
ORGANIZER;CN="Church Hill Rotary Club":MAILTO:pennyguiles@churchhillrotary.org
END:VEVENT
BEGIN:VEVENT
DTSTART;TZID=America/New_York:20190909T180000
DTEND;TZID=America/New_York:20190909T193000
DTSTAMP:20260421T110551
CREATED:20161220T002327Z
LAST-MODIFIED:20161220T002327Z
UID:810-1568052000-1568057400@www.churchhillrotary.org
SUMMARY:Regular Rotary Meeting
DESCRIPTION:
URL:https://www.churchhillrotary.org/event/regular-rotary-meeting-2019-09-09/
LOCATION:Patrick Henry Pub & Grill\, 2300 E Broad St\, Richmond\, VA\, 23223\, United States
CATEGORIES:Regular Meeting
ORGANIZER;CN="Church Hill Rotary Club":MAILTO:pennyguiles@churchhillrotary.org
END:VEVENT
BEGIN:VEVENT
DTSTART;TZID=America/New_York:20190902T180000
DTEND;TZID=America/New_York:20190902T193000
DTSTAMP:20260421T110551
CREATED:20161220T002327Z
LAST-MODIFIED:20161220T002327Z
UID:809-1567447200-1567452600@www.churchhillrotary.org
SUMMARY:Regular Rotary Meeting
DESCRIPTION:
URL:https://www.churchhillrotary.org/event/regular-rotary-meeting-2019-09-02/
LOCATION:Patrick Henry Pub & Grill\, 2300 E Broad St\, Richmond\, VA\, 23223\, United States
CATEGORIES:Regular Meeting
ORGANIZER;CN="Church Hill Rotary Club":MAILTO:pennyguiles@churchhillrotary.org
END:VEVENT
BEGIN:VEVENT
DTSTART;TZID=America/New_York:20190826T180000
DTEND;TZID=America/New_York:20190826T193000
DTSTAMP:20260421T110551
CREATED:20161220T002327Z
LAST-MODIFIED:20161220T002327Z
UID:808-1566842400-1566847800@www.churchhillrotary.org
SUMMARY:Regular Rotary Meeting
DESCRIPTION:
URL:https://www.churchhillrotary.org/event/regular-rotary-meeting-2019-08-26/
LOCATION:Patrick Henry Pub & Grill\, 2300 E Broad St\, Richmond\, VA\, 23223\, United States
CATEGORIES:Regular Meeting
ORGANIZER;CN="Church Hill Rotary Club":MAILTO:pennyguiles@churchhillrotary.org
END:VEVENT
BEGIN:VEVENT
DTSTART;TZID=America/New_York:20190819T180000
DTEND;TZID=America/New_York:20190819T193000
DTSTAMP:20260421T110551
CREATED:20161220T002327Z
LAST-MODIFIED:20161220T002327Z
UID:807-1566237600-1566243000@www.churchhillrotary.org
SUMMARY:Regular Rotary Meeting
DESCRIPTION:
URL:https://www.churchhillrotary.org/event/regular-rotary-meeting-2019-08-19/
LOCATION:Patrick Henry Pub & Grill\, 2300 E Broad St\, Richmond\, VA\, 23223\, United States
CATEGORIES:Regular Meeting
ORGANIZER;CN="Church Hill Rotary Club":MAILTO:pennyguiles@churchhillrotary.org
END:VEVENT
BEGIN:VEVENT
DTSTART;TZID=America/New_York:20190812T180000
DTEND;TZID=America/New_York:20190812T193000
DTSTAMP:20260421T110551
CREATED:20161220T002327Z
LAST-MODIFIED:20161220T002327Z
UID:806-1565632800-1565638200@www.churchhillrotary.org
SUMMARY:Regular Rotary Meeting
DESCRIPTION:
URL:https://www.churchhillrotary.org/event/regular-rotary-meeting-2019-08-12/
LOCATION:Patrick Henry Pub & Grill\, 2300 E Broad St\, Richmond\, VA\, 23223\, United States
CATEGORIES:Regular Meeting
ORGANIZER;CN="Church Hill Rotary Club":MAILTO:pennyguiles@churchhillrotary.org
END:VEVENT
BEGIN:VEVENT
DTSTART;TZID=America/New_York:20190805T180000
DTEND;TZID=America/New_York:20190805T193000
DTSTAMP:20260421T110551
CREATED:20161220T002327Z
LAST-MODIFIED:20161220T002327Z
UID:804-1565028000-1565033400@www.churchhillrotary.org
SUMMARY:Regular Rotary Meeting
DESCRIPTION:
URL:https://www.churchhillrotary.org/event/regular-rotary-meeting-2019-08-05/
LOCATION:Patrick Henry Pub & Grill\, 2300 E Broad St\, Richmond\, VA\, 23223\, United States
CATEGORIES:Regular Meeting
ORGANIZER;CN="Church Hill Rotary Club":MAILTO:pennyguiles@churchhillrotary.org
END:VEVENT
BEGIN:VEVENT
DTSTART;TZID=America/New_York:20190729T180000
DTEND;TZID=America/New_York:20190729T193000
DTSTAMP:20260421T110551
CREATED:20161220T002327Z
LAST-MODIFIED:20161220T002327Z
UID:803-1564423200-1564428600@www.churchhillrotary.org
SUMMARY:Regular Rotary Meeting
DESCRIPTION:
URL:https://www.churchhillrotary.org/event/regular-rotary-meeting-2019-07-29/
LOCATION:Patrick Henry Pub & Grill\, 2300 E Broad St\, Richmond\, VA\, 23223\, United States
CATEGORIES:Regular Meeting
ORGANIZER;CN="Church Hill Rotary Club":MAILTO:pennyguiles@churchhillrotary.org
END:VEVENT
BEGIN:VEVENT
DTSTART;TZID=America/New_York:20190722T180000
DTEND;TZID=America/New_York:20190722T193000
DTSTAMP:20260421T110551
CREATED:20161220T002327Z
LAST-MODIFIED:20161220T002327Z
UID:802-1563818400-1563823800@www.churchhillrotary.org
SUMMARY:Regular Rotary Meeting
DESCRIPTION:
URL:https://www.churchhillrotary.org/event/regular-rotary-meeting-2019-07-22/
LOCATION:Patrick Henry Pub & Grill\, 2300 E Broad St\, Richmond\, VA\, 23223\, United States
CATEGORIES:Regular Meeting
ORGANIZER;CN="Church Hill Rotary Club":MAILTO:pennyguiles@churchhillrotary.org
END:VEVENT
BEGIN:VEVENT
DTSTART;TZID=America/New_York:20190715T180000
DTEND;TZID=America/New_York:20190715T193000
DTSTAMP:20260421T110551
CREATED:20161220T002327Z
LAST-MODIFIED:20161220T002327Z
UID:801-1563213600-1563219000@www.churchhillrotary.org
SUMMARY:Regular Rotary Meeting
DESCRIPTION:
URL:https://www.churchhillrotary.org/event/regular-rotary-meeting-2019-07-15/
LOCATION:Patrick Henry Pub & Grill\, 2300 E Broad St\, Richmond\, VA\, 23223\, United States
CATEGORIES:Regular Meeting
ORGANIZER;CN="Church Hill Rotary Club":MAILTO:pennyguiles@churchhillrotary.org
END:VEVENT
BEGIN:VEVENT
DTSTART;TZID=America/New_York:20190708T180000
DTEND;TZID=America/New_York:20190708T193000
DTSTAMP:20260421T110551
CREATED:20161220T002327Z
LAST-MODIFIED:20161220T002327Z
UID:800-1562608800-1562614200@www.churchhillrotary.org
SUMMARY:Regular Rotary Meeting
DESCRIPTION:
URL:https://www.churchhillrotary.org/event/regular-rotary-meeting-2019-07-08/
LOCATION:Patrick Henry Pub & Grill\, 2300 E Broad St\, Richmond\, VA\, 23223\, United States
CATEGORIES:Regular Meeting
ORGANIZER;CN="Church Hill Rotary Club":MAILTO:pennyguiles@churchhillrotary.org
END:VEVENT
BEGIN:VEVENT
DTSTART;TZID=America/New_York:20190701T180000
DTEND;TZID=America/New_York:20190701T193000
DTSTAMP:20260421T110551
CREATED:20161220T002327Z
LAST-MODIFIED:20161220T002327Z
UID:799-1562004000-1562009400@www.churchhillrotary.org
SUMMARY:Regular Rotary Meeting
DESCRIPTION:
URL:https://www.churchhillrotary.org/event/regular-rotary-meeting-2019-07-01/
LOCATION:Patrick Henry Pub & Grill\, 2300 E Broad St\, Richmond\, VA\, 23223\, United States
CATEGORIES:Regular Meeting
ORGANIZER;CN="Church Hill Rotary Club":MAILTO:pennyguiles@churchhillrotary.org
END:VEVENT
BEGIN:VEVENT
DTSTART;TZID=America/New_York:20190624T180000
DTEND;TZID=America/New_York:20190624T193000
DTSTAMP:20260421T110551
CREATED:20161220T002327Z
LAST-MODIFIED:20161220T002327Z
UID:798-1561399200-1561404600@www.churchhillrotary.org
SUMMARY:Regular Rotary Meeting
DESCRIPTION:
URL:https://www.churchhillrotary.org/event/regular-rotary-meeting-2019-06-24/
LOCATION:Patrick Henry Pub & Grill\, 2300 E Broad St\, Richmond\, VA\, 23223\, United States
CATEGORIES:Regular Meeting
ORGANIZER;CN="Church Hill Rotary Club":MAILTO:pennyguiles@churchhillrotary.org
END:VEVENT
BEGIN:VEVENT
DTSTART;TZID=America/New_York:20190617T180000
DTEND;TZID=America/New_York:20190617T193000
DTSTAMP:20260421T110551
CREATED:20161220T002327Z
LAST-MODIFIED:20161220T002327Z
UID:759-1560794400-1560799800@www.churchhillrotary.org
SUMMARY:Regular Rotary Meeting
DESCRIPTION:
URL:https://www.churchhillrotary.org/event/regular-rotary-meeting-2019-06-17/
LOCATION:Patrick Henry Pub & Grill\, 2300 E Broad St\, Richmond\, VA\, 23223\, United States
CATEGORIES:Regular Meeting
ORGANIZER;CN="Church Hill Rotary Club":MAILTO:pennyguiles@churchhillrotary.org
END:VEVENT
BEGIN:VEVENT
DTSTART;TZID=America/New_York:20190610T180000
DTEND;TZID=America/New_York:20190610T193000
DTSTAMP:20260421T110551
CREATED:20161220T002327Z
LAST-MODIFIED:20161220T002327Z
UID:758-1560189600-1560195000@www.churchhillrotary.org
SUMMARY:Regular Rotary Meeting
DESCRIPTION:
URL:https://www.churchhillrotary.org/event/regular-rotary-meeting-2019-06-10/
LOCATION:Patrick Henry Pub & Grill\, 2300 E Broad St\, Richmond\, VA\, 23223\, United States
CATEGORIES:Regular Meeting
ORGANIZER;CN="Church Hill Rotary Club":MAILTO:pennyguiles@churchhillrotary.org
END:VEVENT
BEGIN:VEVENT
DTSTART;TZID=America/New_York:20190603T180000
DTEND;TZID=America/New_York:20190603T193000
DTSTAMP:20260421T110551
CREATED:20161220T002327Z
LAST-MODIFIED:20161220T002327Z
UID:751-1559584800-1559590200@www.churchhillrotary.org
SUMMARY:Regular Rotary Meeting
DESCRIPTION:
URL:https://www.churchhillrotary.org/event/regular-rotary-meeting-2019-06-03/
LOCATION:Patrick Henry Pub & Grill\, 2300 E Broad St\, Richmond\, VA\, 23223\, United States
CATEGORIES:Regular Meeting
ORGANIZER;CN="Church Hill Rotary Club":MAILTO:pennyguiles@churchhillrotary.org
END:VEVENT
BEGIN:VEVENT
DTSTART;TZID=America/New_York:20190527T180000
DTEND;TZID=America/New_York:20190527T193000
DTSTAMP:20260421T110551
CREATED:20161220T002327Z
LAST-MODIFIED:20170601T155832Z
UID:554-1558980000-1558985400@www.churchhillrotary.org
SUMMARY:Regular Rotary Meeting
DESCRIPTION:
URL:https://www.churchhillrotary.org/event/regular-rotary-meeting-2019-05-27/
LOCATION:Patrick Henry Pub & Grill\, 2300 E Broad St\, Richmond\, VA\, 23223\, United States
CATEGORIES:Regular Meeting
ORGANIZER;CN="Church Hill Rotary Club":MAILTO:pennyguiles@churchhillrotary.org
END:VEVENT
BEGIN:VEVENT
DTSTART;TZID=America/New_York:20190520T180000
DTEND;TZID=America/New_York:20190520T193000
DTSTAMP:20260421T110551
CREATED:20161220T002327Z
LAST-MODIFIED:20170601T155832Z
UID:553-1558375200-1558380600@www.churchhillrotary.org
SUMMARY:Regular Rotary Meeting
DESCRIPTION:
URL:https://www.churchhillrotary.org/event/regular-rotary-meeting-2019-05-20/
LOCATION:Patrick Henry Pub & Grill\, 2300 E Broad St\, Richmond\, VA\, 23223\, United States
CATEGORIES:Regular Meeting
ORGANIZER;CN="Church Hill Rotary Club":MAILTO:pennyguiles@churchhillrotary.org
END:VEVENT
BEGIN:VEVENT
DTSTART;TZID=America/New_York:20190513T180000
DTEND;TZID=America/New_York:20190513T193000
DTSTAMP:20260421T110551
CREATED:20161220T002327Z
LAST-MODIFIED:20170601T155831Z
UID:552-1557770400-1557775800@www.churchhillrotary.org
SUMMARY:Regular Rotary Meeting
DESCRIPTION:
URL:https://www.churchhillrotary.org/event/regular-rotary-meeting-2019-05-13/
LOCATION:Patrick Henry Pub & Grill\, 2300 E Broad St\, Richmond\, VA\, 23223\, United States
CATEGORIES:Regular Meeting
ORGANIZER;CN="Church Hill Rotary Club":MAILTO:pennyguiles@churchhillrotary.org
END:VEVENT
BEGIN:VEVENT
DTSTART;TZID=America/New_York:20190506T180000
DTEND;TZID=America/New_York:20190506T193000
DTSTAMP:20260421T110551
CREATED:20161220T002327Z
LAST-MODIFIED:20170601T155831Z
UID:550-1557165600-1557171000@www.churchhillrotary.org
SUMMARY:Regular Rotary Meeting
DESCRIPTION:
URL:https://www.churchhillrotary.org/event/regular-rotary-meeting-2019-05-06/
LOCATION:Patrick Henry Pub & Grill\, 2300 E Broad St\, Richmond\, VA\, 23223\, United States
CATEGORIES:Regular Meeting
ORGANIZER;CN="Church Hill Rotary Club":MAILTO:pennyguiles@churchhillrotary.org
END:VEVENT
BEGIN:VEVENT
DTSTART;TZID=America/New_York:20190429T180000
DTEND;TZID=America/New_York:20190429T193000
DTSTAMP:20260421T110551
CREATED:20161220T002327Z
LAST-MODIFIED:20170601T155831Z
UID:549-1556560800-1556566200@www.churchhillrotary.org
SUMMARY:Regular Rotary Meeting
DESCRIPTION:
URL:https://www.churchhillrotary.org/event/regular-rotary-meeting-2019-04-29/
LOCATION:Patrick Henry Pub & Grill\, 2300 E Broad St\, Richmond\, VA\, 23223\, United States
CATEGORIES:Regular Meeting
ORGANIZER;CN="Church Hill Rotary Club":MAILTO:pennyguiles@churchhillrotary.org
END:VEVENT
BEGIN:VEVENT
DTSTART;TZID=America/New_York:20190422T180000
DTEND;TZID=America/New_York:20190422T193000
DTSTAMP:20260421T110551
CREATED:20161220T002327Z
LAST-MODIFIED:20170601T155830Z
UID:548-1555956000-1555961400@www.churchhillrotary.org
SUMMARY:Regular Rotary Meeting
DESCRIPTION:
URL:https://www.churchhillrotary.org/event/regular-rotary-meeting-2019-04-22/
LOCATION:Patrick Henry Pub & Grill\, 2300 E Broad St\, Richmond\, VA\, 23223\, United States
CATEGORIES:Regular Meeting
ORGANIZER;CN="Church Hill Rotary Club":MAILTO:pennyguiles@churchhillrotary.org
END:VEVENT
BEGIN:VEVENT
DTSTART;TZID=America/New_York:20190415T180000
DTEND;TZID=America/New_York:20190415T193000
DTSTAMP:20260421T110551
CREATED:20161220T002327Z
LAST-MODIFIED:20170601T155830Z
UID:546-1555351200-1555356600@www.churchhillrotary.org
SUMMARY:Regular Rotary Meeting
DESCRIPTION:
URL:https://www.churchhillrotary.org/event/regular-rotary-meeting-2019-04-15/
LOCATION:Patrick Henry Pub & Grill\, 2300 E Broad St\, Richmond\, VA\, 23223\, United States
CATEGORIES:Regular Meeting
ORGANIZER;CN="Church Hill Rotary Club":MAILTO:pennyguiles@churchhillrotary.org
END:VEVENT
BEGIN:VEVENT
DTSTART;TZID=America/New_York:20190408T180000
DTEND;TZID=America/New_York:20190408T193000
DTSTAMP:20260421T110551
CREATED:20161220T002327Z
LAST-MODIFIED:20170601T155830Z
UID:545-1554746400-1554751800@www.churchhillrotary.org
SUMMARY:Regular Rotary Meeting
DESCRIPTION:
URL:https://www.churchhillrotary.org/event/regular-rotary-meeting-2019-04-08/
LOCATION:Patrick Henry Pub & Grill\, 2300 E Broad St\, Richmond\, VA\, 23223\, United States
CATEGORIES:Regular Meeting
ORGANIZER;CN="Church Hill Rotary Club":MAILTO:pennyguiles@churchhillrotary.org
END:VEVENT
END:VCALENDAR