BEGIN:VCALENDAR
VERSION:2.0
PRODID:-//Church Hill Rotary - ECPv6.15.3//NONSGML v1.0//EN
CALSCALE:GREGORIAN
METHOD:PUBLISH
X-ORIGINAL-URL:https://www.churchhillrotary.org
X-WR-CALDESC:Events for Church Hill Rotary
REFRESH-INTERVAL;VALUE=DURATION:PT1H
X-Robots-Tag:noindex
X-PUBLISHED-TTL:PT1H
BEGIN:VTIMEZONE
TZID:America/New_York
BEGIN:DAYLIGHT
TZOFFSETFROM:-0500
TZOFFSETTO:-0400
TZNAME:EDT
DTSTART:20180311T070000
END:DAYLIGHT
BEGIN:STANDARD
TZOFFSETFROM:-0400
TZOFFSETTO:-0500
TZNAME:EST
DTSTART:20181104T060000
END:STANDARD
END:VTIMEZONE
BEGIN:VEVENT
DTSTART;TZID=America/New_York:20180903T180000
DTEND;TZID=America/New_York:20180903T193000
DTSTAMP:20260421T220744
CREATED:20161220T002327Z
LAST-MODIFIED:20170601T155821Z
UID:452-1535997600-1536003000@www.churchhillrotary.org
SUMMARY:Regular Rotary Meeting
DESCRIPTION:
URL:https://www.churchhillrotary.org/event/regular-rotary-meeting-2018-09-03/
LOCATION:Patrick Henry Pub & Grill\, 2300 E Broad St\, Richmond\, VA\, 23223\, United States
CATEGORIES:Regular Meeting
ORGANIZER;CN="Church Hill Rotary Club":MAILTO:pennyguiles@churchhillrotary.org
END:VEVENT
BEGIN:VEVENT
DTSTART;TZID=America/New_York:20180827T180000
DTEND;TZID=America/New_York:20180827T193000
DTSTAMP:20260421T220744
CREATED:20161220T002327Z
LAST-MODIFIED:20170601T155821Z
UID:451-1535392800-1535398200@www.churchhillrotary.org
SUMMARY:Regular Rotary Meeting
DESCRIPTION:
URL:https://www.churchhillrotary.org/event/regular-rotary-meeting-2018-08-27/
LOCATION:Patrick Henry Pub & Grill\, 2300 E Broad St\, Richmond\, VA\, 23223\, United States
CATEGORIES:Regular Meeting
ORGANIZER;CN="Church Hill Rotary Club":MAILTO:pennyguiles@churchhillrotary.org
END:VEVENT
BEGIN:VEVENT
DTSTART;TZID=America/New_York:20180820T180000
DTEND;TZID=America/New_York:20180820T193000
DTSTAMP:20260421T220744
CREATED:20161220T002327Z
LAST-MODIFIED:20170601T155821Z
UID:450-1534788000-1534793400@www.churchhillrotary.org
SUMMARY:Regular Rotary Meeting
DESCRIPTION:
URL:https://www.churchhillrotary.org/event/regular-rotary-meeting-2018-08-20/
LOCATION:Patrick Henry Pub & Grill\, 2300 E Broad St\, Richmond\, VA\, 23223\, United States
CATEGORIES:Regular Meeting
ORGANIZER;CN="Church Hill Rotary Club":MAILTO:pennyguiles@churchhillrotary.org
END:VEVENT
BEGIN:VEVENT
DTSTART;TZID=America/New_York:20180813T180000
DTEND;TZID=America/New_York:20180813T193000
DTSTAMP:20260421T220744
CREATED:20161220T002327Z
LAST-MODIFIED:20170601T155820Z
UID:449-1534183200-1534188600@www.churchhillrotary.org
SUMMARY:Regular Rotary Meeting
DESCRIPTION:
URL:https://www.churchhillrotary.org/event/regular-rotary-meeting-2018-08-13/
LOCATION:Patrick Henry Pub & Grill\, 2300 E Broad St\, Richmond\, VA\, 23223\, United States
CATEGORIES:Regular Meeting
ORGANIZER;CN="Church Hill Rotary Club":MAILTO:pennyguiles@churchhillrotary.org
END:VEVENT
BEGIN:VEVENT
DTSTART;TZID=America/New_York:20180806T180000
DTEND;TZID=America/New_York:20180806T193000
DTSTAMP:20260421T220744
CREATED:20161220T002327Z
LAST-MODIFIED:20170601T155820Z
UID:448-1533578400-1533583800@www.churchhillrotary.org
SUMMARY:Regular Rotary Meeting
DESCRIPTION:
URL:https://www.churchhillrotary.org/event/regular-rotary-meeting-2018-08-06/
LOCATION:Patrick Henry Pub & Grill\, 2300 E Broad St\, Richmond\, VA\, 23223\, United States
CATEGORIES:Regular Meeting
ORGANIZER;CN="Church Hill Rotary Club":MAILTO:pennyguiles@churchhillrotary.org
END:VEVENT
BEGIN:VEVENT
DTSTART;TZID=America/New_York:20180730T180000
DTEND;TZID=America/New_York:20180730T193000
DTSTAMP:20260421T220744
CREATED:20161220T002327Z
LAST-MODIFIED:20170601T155820Z
UID:447-1532973600-1532979000@www.churchhillrotary.org
SUMMARY:Regular Rotary Meeting
DESCRIPTION:
URL:https://www.churchhillrotary.org/event/regular-rotary-meeting-2018-07-30/
LOCATION:Patrick Henry Pub & Grill\, 2300 E Broad St\, Richmond\, VA\, 23223\, United States
CATEGORIES:Regular Meeting
ORGANIZER;CN="Church Hill Rotary Club":MAILTO:pennyguiles@churchhillrotary.org
END:VEVENT
BEGIN:VEVENT
DTSTART;TZID=America/New_York:20180723T180000
DTEND;TZID=America/New_York:20180723T193000
DTSTAMP:20260421T220744
CREATED:20161220T002327Z
LAST-MODIFIED:20170601T155819Z
UID:446-1532368800-1532374200@www.churchhillrotary.org
SUMMARY:Regular Rotary Meeting
DESCRIPTION:
URL:https://www.churchhillrotary.org/event/regular-rotary-meeting-2018-07-23/
LOCATION:Patrick Henry Pub & Grill\, 2300 E Broad St\, Richmond\, VA\, 23223\, United States
CATEGORIES:Regular Meeting
ORGANIZER;CN="Church Hill Rotary Club":MAILTO:pennyguiles@churchhillrotary.org
END:VEVENT
BEGIN:VEVENT
DTSTART;TZID=America/New_York:20180716T180000
DTEND;TZID=America/New_York:20180716T193000
DTSTAMP:20260421T220744
CREATED:20161220T002327Z
LAST-MODIFIED:20170601T155819Z
UID:445-1531764000-1531769400@www.churchhillrotary.org
SUMMARY:Regular Rotary Meeting
DESCRIPTION:
URL:https://www.churchhillrotary.org/event/regular-rotary-meeting-2018-07-16/
LOCATION:Patrick Henry Pub & Grill\, 2300 E Broad St\, Richmond\, VA\, 23223\, United States
CATEGORIES:Regular Meeting
ORGANIZER;CN="Church Hill Rotary Club":MAILTO:pennyguiles@churchhillrotary.org
END:VEVENT
BEGIN:VEVENT
DTSTART;TZID=America/New_York:20180709T180000
DTEND;TZID=America/New_York:20180709T193000
DTSTAMP:20260421T220744
CREATED:20161220T002327Z
LAST-MODIFIED:20170601T155819Z
UID:444-1531159200-1531164600@www.churchhillrotary.org
SUMMARY:Regular Rotary Meeting
DESCRIPTION:
URL:https://www.churchhillrotary.org/event/regular-rotary-meeting-2018-07-09/
LOCATION:Patrick Henry Pub & Grill\, 2300 E Broad St\, Richmond\, VA\, 23223\, United States
CATEGORIES:Regular Meeting
ORGANIZER;CN="Church Hill Rotary Club":MAILTO:pennyguiles@churchhillrotary.org
END:VEVENT
BEGIN:VEVENT
DTSTART;TZID=America/New_York:20180702T180000
DTEND;TZID=America/New_York:20180702T193000
DTSTAMP:20260421T220744
CREATED:20161220T002327Z
LAST-MODIFIED:20170601T155819Z
UID:443-1530554400-1530559800@www.churchhillrotary.org
SUMMARY:Regular Rotary Meeting
DESCRIPTION:
URL:https://www.churchhillrotary.org/event/regular-rotary-meeting-2018-07-02/
LOCATION:Patrick Henry Pub & Grill\, 2300 E Broad St\, Richmond\, VA\, 23223\, United States
CATEGORIES:Regular Meeting
ORGANIZER;CN="Church Hill Rotary Club":MAILTO:pennyguiles@churchhillrotary.org
END:VEVENT
BEGIN:VEVENT
DTSTART;TZID=America/New_York:20180625T180000
DTEND;TZID=America/New_York:20180625T193000
DTSTAMP:20260421T220744
CREATED:20161220T002327Z
LAST-MODIFIED:20170601T155819Z
UID:442-1529949600-1529955000@www.churchhillrotary.org
SUMMARY:Regular Rotary Meeting
DESCRIPTION:
URL:https://www.churchhillrotary.org/event/regular-rotary-meeting-2018-06-25/
LOCATION:Patrick Henry Pub & Grill\, 2300 E Broad St\, Richmond\, VA\, 23223\, United States
CATEGORIES:Regular Meeting
ORGANIZER;CN="Church Hill Rotary Club":MAILTO:pennyguiles@churchhillrotary.org
END:VEVENT
BEGIN:VEVENT
DTSTART;TZID=America/New_York:20180618T180000
DTEND;TZID=America/New_York:20180618T193000
DTSTAMP:20260421T220744
CREATED:20161220T002327Z
LAST-MODIFIED:20170601T155818Z
UID:441-1529344800-1529350200@www.churchhillrotary.org
SUMMARY:Regular Rotary Meeting
DESCRIPTION:
URL:https://www.churchhillrotary.org/event/regular-rotary-meeting-2018-06-18/
LOCATION:Patrick Henry Pub & Grill\, 2300 E Broad St\, Richmond\, VA\, 23223\, United States
CATEGORIES:Regular Meeting
ORGANIZER;CN="Church Hill Rotary Club":MAILTO:pennyguiles@churchhillrotary.org
END:VEVENT
BEGIN:VEVENT
DTSTART;TZID=America/New_York:20180611T180000
DTEND;TZID=America/New_York:20180611T193000
DTSTAMP:20260421T220744
CREATED:20161220T002327Z
LAST-MODIFIED:20170601T155818Z
UID:440-1528740000-1528745400@www.churchhillrotary.org
SUMMARY:Regular Rotary Meeting
DESCRIPTION:
URL:https://www.churchhillrotary.org/event/regular-rotary-meeting-2018-06-11/
LOCATION:Patrick Henry Pub & Grill\, 2300 E Broad St\, Richmond\, VA\, 23223\, United States
CATEGORIES:Regular Meeting
ORGANIZER;CN="Church Hill Rotary Club":MAILTO:pennyguiles@churchhillrotary.org
END:VEVENT
BEGIN:VEVENT
DTSTART;TZID=America/New_York:20180604T180000
DTEND;TZID=America/New_York:20180604T193000
DTSTAMP:20260421T220744
CREATED:20161220T002327Z
LAST-MODIFIED:20170601T155818Z
UID:439-1528135200-1528140600@www.churchhillrotary.org
SUMMARY:Regular Rotary Meeting
DESCRIPTION:
URL:https://www.churchhillrotary.org/event/regular-rotary-meeting-2018-06-04/
LOCATION:Patrick Henry Pub & Grill\, 2300 E Broad St\, Richmond\, VA\, 23223\, United States
CATEGORIES:Regular Meeting
ORGANIZER;CN="Church Hill Rotary Club":MAILTO:pennyguiles@churchhillrotary.org
END:VEVENT
BEGIN:VEVENT
DTSTART;TZID=America/New_York:20180528T180000
DTEND;TZID=America/New_York:20180528T193000
DTSTAMP:20260421T220744
CREATED:20161220T002327Z
LAST-MODIFIED:20170601T155817Z
UID:438-1527530400-1527535800@www.churchhillrotary.org
SUMMARY:Regular Rotary Meeting
DESCRIPTION:
URL:https://www.churchhillrotary.org/event/regular-rotary-meeting-2018-05-28/
LOCATION:Patrick Henry Pub & Grill\, 2300 E Broad St\, Richmond\, VA\, 23223\, United States
CATEGORIES:Regular Meeting
ORGANIZER;CN="Church Hill Rotary Club":MAILTO:pennyguiles@churchhillrotary.org
END:VEVENT
BEGIN:VEVENT
DTSTART;TZID=America/New_York:20180521T180000
DTEND;TZID=America/New_York:20180521T193000
DTSTAMP:20260421T220744
CREATED:20161220T002327Z
LAST-MODIFIED:20170601T155817Z
UID:437-1526925600-1526931000@www.churchhillrotary.org
SUMMARY:Regular Rotary Meeting
DESCRIPTION:
URL:https://www.churchhillrotary.org/event/regular-rotary-meeting-2018-05-21/
LOCATION:Patrick Henry Pub & Grill\, 2300 E Broad St\, Richmond\, VA\, 23223\, United States
CATEGORIES:Regular Meeting
ORGANIZER;CN="Church Hill Rotary Club":MAILTO:pennyguiles@churchhillrotary.org
END:VEVENT
BEGIN:VEVENT
DTSTART;TZID=America/New_York:20180514T180000
DTEND;TZID=America/New_York:20180514T193000
DTSTAMP:20260421T220744
CREATED:20161220T002327Z
LAST-MODIFIED:20170601T155817Z
UID:436-1526320800-1526326200@www.churchhillrotary.org
SUMMARY:Regular Rotary Meeting
DESCRIPTION:
URL:https://www.churchhillrotary.org/event/regular-rotary-meeting-2018-05-14/
LOCATION:Patrick Henry Pub & Grill\, 2300 E Broad St\, Richmond\, VA\, 23223\, United States
CATEGORIES:Regular Meeting
ORGANIZER;CN="Church Hill Rotary Club":MAILTO:pennyguiles@churchhillrotary.org
END:VEVENT
BEGIN:VEVENT
DTSTART;TZID=America/New_York:20180507T180000
DTEND;TZID=America/New_York:20180507T193000
DTSTAMP:20260421T220744
CREATED:20161220T002327Z
LAST-MODIFIED:20170601T155816Z
UID:435-1525716000-1525721400@www.churchhillrotary.org
SUMMARY:Regular Rotary Meeting
DESCRIPTION:
URL:https://www.churchhillrotary.org/event/regular-rotary-meeting-2018-05-07/
LOCATION:Patrick Henry Pub & Grill\, 2300 E Broad St\, Richmond\, VA\, 23223\, United States
CATEGORIES:Regular Meeting
ORGANIZER;CN="Church Hill Rotary Club":MAILTO:pennyguiles@churchhillrotary.org
END:VEVENT
BEGIN:VEVENT
DTSTART;TZID=America/New_York:20180430T180000
DTEND;TZID=America/New_York:20180430T193000
DTSTAMP:20260421T220744
CREATED:20161220T002327Z
LAST-MODIFIED:20170601T155816Z
UID:434-1525111200-1525116600@www.churchhillrotary.org
SUMMARY:Regular Rotary Meeting
DESCRIPTION:
URL:https://www.churchhillrotary.org/event/regular-rotary-meeting-2018-04-30/
LOCATION:Patrick Henry Pub & Grill\, 2300 E Broad St\, Richmond\, VA\, 23223\, United States
CATEGORIES:Regular Meeting
ORGANIZER;CN="Church Hill Rotary Club":MAILTO:pennyguiles@churchhillrotary.org
END:VEVENT
BEGIN:VEVENT
DTSTART;TZID=America/New_York:20180423T180000
DTEND;TZID=America/New_York:20180423T193000
DTSTAMP:20260421T220744
CREATED:20161220T002327Z
LAST-MODIFIED:20170601T155816Z
UID:433-1524506400-1524511800@www.churchhillrotary.org
SUMMARY:Regular Rotary Meeting
DESCRIPTION:
URL:https://www.churchhillrotary.org/event/regular-rotary-meeting-2018-04-23/
LOCATION:Patrick Henry Pub & Grill\, 2300 E Broad St\, Richmond\, VA\, 23223\, United States
CATEGORIES:Regular Meeting
ORGANIZER;CN="Church Hill Rotary Club":MAILTO:pennyguiles@churchhillrotary.org
END:VEVENT
BEGIN:VEVENT
DTSTART;TZID=America/New_York:20180416T180000
DTEND;TZID=America/New_York:20180416T193000
DTSTAMP:20260421T220744
CREATED:20161220T002327Z
LAST-MODIFIED:20170601T155815Z
UID:432-1523901600-1523907000@www.churchhillrotary.org
SUMMARY:Regular Rotary Meeting
DESCRIPTION:
URL:https://www.churchhillrotary.org/event/regular-rotary-meeting-2018-04-16/
LOCATION:Patrick Henry Pub & Grill\, 2300 E Broad St\, Richmond\, VA\, 23223\, United States
CATEGORIES:Regular Meeting
ORGANIZER;CN="Church Hill Rotary Club":MAILTO:pennyguiles@churchhillrotary.org
END:VEVENT
BEGIN:VEVENT
DTSTART;TZID=America/New_York:20180409T180000
DTEND;TZID=America/New_York:20180409T193000
DTSTAMP:20260421T220744
CREATED:20161220T002327Z
LAST-MODIFIED:20170601T155815Z
UID:431-1523296800-1523302200@www.churchhillrotary.org
SUMMARY:Regular Rotary Meeting
DESCRIPTION:
URL:https://www.churchhillrotary.org/event/regular-rotary-meeting-2018-04-09/
LOCATION:Patrick Henry Pub & Grill\, 2300 E Broad St\, Richmond\, VA\, 23223\, United States
CATEGORIES:Regular Meeting
ORGANIZER;CN="Church Hill Rotary Club":MAILTO:pennyguiles@churchhillrotary.org
END:VEVENT
BEGIN:VEVENT
DTSTART;TZID=America/New_York:20180402T180000
DTEND;TZID=America/New_York:20180402T193000
DTSTAMP:20260421T220744
CREATED:20161220T002327Z
LAST-MODIFIED:20170601T155814Z
UID:430-1522692000-1522697400@www.churchhillrotary.org
SUMMARY:Regular Rotary Meeting
DESCRIPTION:
URL:https://www.churchhillrotary.org/event/regular-rotary-meeting-2018-04-02/
LOCATION:Patrick Henry Pub & Grill\, 2300 E Broad St\, Richmond\, VA\, 23223\, United States
CATEGORIES:Regular Meeting
ORGANIZER;CN="Church Hill Rotary Club":MAILTO:pennyguiles@churchhillrotary.org
END:VEVENT
BEGIN:VEVENT
DTSTART;TZID=America/New_York:20180326T180000
DTEND;TZID=America/New_York:20180326T193000
DTSTAMP:20260421T220744
CREATED:20161220T002327Z
LAST-MODIFIED:20170601T155814Z
UID:429-1522087200-1522092600@www.churchhillrotary.org
SUMMARY:Regular Rotary Meeting
DESCRIPTION:
URL:https://www.churchhillrotary.org/event/regular-rotary-meeting-2018-03-26/
LOCATION:Patrick Henry Pub & Grill\, 2300 E Broad St\, Richmond\, VA\, 23223\, United States
CATEGORIES:Regular Meeting
ORGANIZER;CN="Church Hill Rotary Club":MAILTO:pennyguiles@churchhillrotary.org
END:VEVENT
BEGIN:VEVENT
DTSTART;TZID=America/New_York:20180319T180000
DTEND;TZID=America/New_York:20180319T193000
DTSTAMP:20260421T220744
CREATED:20161220T002327Z
LAST-MODIFIED:20170601T155813Z
UID:428-1521482400-1521487800@www.churchhillrotary.org
SUMMARY:Regular Rotary Meeting
DESCRIPTION:
URL:https://www.churchhillrotary.org/event/regular-rotary-meeting-2018-03-19/
LOCATION:Patrick Henry Pub & Grill\, 2300 E Broad St\, Richmond\, VA\, 23223\, United States
CATEGORIES:Regular Meeting
ORGANIZER;CN="Church Hill Rotary Club":MAILTO:pennyguiles@churchhillrotary.org
END:VEVENT
BEGIN:VEVENT
DTSTART;TZID=America/New_York:20180312T180000
DTEND;TZID=America/New_York:20180312T193000
DTSTAMP:20260421T220744
CREATED:20161220T002327Z
LAST-MODIFIED:20170601T155813Z
UID:427-1520877600-1520883000@www.churchhillrotary.org
SUMMARY:Regular Rotary Meeting
DESCRIPTION:
URL:https://www.churchhillrotary.org/event/regular-rotary-meeting-2018-03-12/
LOCATION:Patrick Henry Pub & Grill\, 2300 E Broad St\, Richmond\, VA\, 23223\, United States
CATEGORIES:Regular Meeting
ORGANIZER;CN="Church Hill Rotary Club":MAILTO:pennyguiles@churchhillrotary.org
END:VEVENT
BEGIN:VEVENT
DTSTART;TZID=America/New_York:20180305T180000
DTEND;TZID=America/New_York:20180305T193000
DTSTAMP:20260421T220744
CREATED:20161220T002327Z
LAST-MODIFIED:20170601T155813Z
UID:426-1520272800-1520278200@www.churchhillrotary.org
SUMMARY:Regular Rotary Meeting
DESCRIPTION:
URL:https://www.churchhillrotary.org/event/regular-rotary-meeting-2018-03-05/
LOCATION:Patrick Henry Pub & Grill\, 2300 E Broad St\, Richmond\, VA\, 23223\, United States
CATEGORIES:Regular Meeting
ORGANIZER;CN="Church Hill Rotary Club":MAILTO:pennyguiles@churchhillrotary.org
END:VEVENT
BEGIN:VEVENT
DTSTART;TZID=America/New_York:20180226T180000
DTEND;TZID=America/New_York:20180226T193000
DTSTAMP:20260421T220744
CREATED:20161220T002327Z
LAST-MODIFIED:20170601T155812Z
UID:425-1519668000-1519673400@www.churchhillrotary.org
SUMMARY:Regular Rotary Meeting
DESCRIPTION:
URL:https://www.churchhillrotary.org/event/regular-rotary-meeting-2018-02-26/
LOCATION:Patrick Henry Pub & Grill\, 2300 E Broad St\, Richmond\, VA\, 23223\, United States
CATEGORIES:Regular Meeting
ORGANIZER;CN="Church Hill Rotary Club":MAILTO:pennyguiles@churchhillrotary.org
END:VEVENT
BEGIN:VEVENT
DTSTART;TZID=America/New_York:20180219T180000
DTEND;TZID=America/New_York:20180219T193000
DTSTAMP:20260421T220744
CREATED:20161220T002327Z
LAST-MODIFIED:20170601T155812Z
UID:424-1519063200-1519068600@www.churchhillrotary.org
SUMMARY:Regular Rotary Meeting
DESCRIPTION:
URL:https://www.churchhillrotary.org/event/regular-rotary-meeting-2018-02-19/
LOCATION:Patrick Henry Pub & Grill\, 2300 E Broad St\, Richmond\, VA\, 23223\, United States
CATEGORIES:Regular Meeting
ORGANIZER;CN="Church Hill Rotary Club":MAILTO:pennyguiles@churchhillrotary.org
END:VEVENT
BEGIN:VEVENT
DTSTART;TZID=America/New_York:20180212T180000
DTEND;TZID=America/New_York:20180212T193000
DTSTAMP:20260421T220744
CREATED:20161220T002327Z
LAST-MODIFIED:20170601T155811Z
UID:423-1518458400-1518463800@www.churchhillrotary.org
SUMMARY:Regular Rotary Meeting
DESCRIPTION:
URL:https://www.churchhillrotary.org/event/regular-rotary-meeting-2018-02-12/
LOCATION:Patrick Henry Pub & Grill\, 2300 E Broad St\, Richmond\, VA\, 23223\, United States
CATEGORIES:Regular Meeting
ORGANIZER;CN="Church Hill Rotary Club":MAILTO:pennyguiles@churchhillrotary.org
END:VEVENT
END:VCALENDAR