BEGIN:VCALENDAR
VERSION:2.0
PRODID:-//Church Hill Rotary - ECPv6.15.3//NONSGML v1.0//EN
CALSCALE:GREGORIAN
METHOD:PUBLISH
X-ORIGINAL-URL:https://www.churchhillrotary.org
X-WR-CALDESC:Events for Church Hill Rotary
REFRESH-INTERVAL;VALUE=DURATION:PT1H
X-Robots-Tag:noindex
X-PUBLISHED-TTL:PT1H
BEGIN:VTIMEZONE
TZID:America/New_York
BEGIN:DAYLIGHT
TZOFFSETFROM:-0500
TZOFFSETTO:-0400
TZNAME:EDT
DTSTART:20210314T070000
END:DAYLIGHT
BEGIN:STANDARD
TZOFFSETFROM:-0400
TZOFFSETTO:-0500
TZNAME:EST
DTSTART:20211107T060000
END:STANDARD
BEGIN:DAYLIGHT
TZOFFSETFROM:-0500
TZOFFSETTO:-0400
TZNAME:EDT
DTSTART:20220313T070000
END:DAYLIGHT
BEGIN:STANDARD
TZOFFSETFROM:-0400
TZOFFSETTO:-0500
TZNAME:EST
DTSTART:20221106T060000
END:STANDARD
END:VTIMEZONE
BEGIN:VEVENT
DTSTART;TZID=America/New_York:20211101T183000
DTEND;TZID=America/New_York:20211101T193000
DTSTAMP:20260423T102426
CREATED:20211028T192515Z
LAST-MODIFIED:20211028T192515Z
UID:1270-1635791400-1635795000@www.churchhillrotary.org
SUMMARY:No Meeting
DESCRIPTION:
URL:https://www.churchhillrotary.org/event/no-meeting/
END:VEVENT
BEGIN:VEVENT
DTSTART;TZID=America/New_York:20211108T183000
DTEND;TZID=America/New_York:20211108T193000
DTSTAMP:20260423T102426
CREATED:20211028T192634Z
LAST-MODIFIED:20211028T192847Z
UID:1272-1636396200-1636399800@www.churchhillrotary.org
SUMMARY:Club Meeting
DESCRIPTION:We will be making cards and discussing the Hill Topper 5K Race.
URL:https://www.churchhillrotary.org/event/meeting/
ORGANIZER;CN="Church Hill Rotary Club":MAILTO:pennyguiles@churchhillrotary.org
END:VEVENT
BEGIN:VEVENT
DTSTART;TZID=America/New_York:20211115T183000
DTEND;TZID=America/New_York:20211115T193000
DTSTAMP:20260423T102426
CREATED:20211028T192711Z
LAST-MODIFIED:20211028T192711Z
UID:1274-1637001000-1637004600@www.churchhillrotary.org
SUMMARY:Club Meeting
DESCRIPTION:
URL:https://www.churchhillrotary.org/event/club-meeting-2/
END:VEVENT
BEGIN:VEVENT
DTSTART;TZID=America/New_York:20211122T183000
DTEND;TZID=America/New_York:20211122T193000
DTSTAMP:20260423T102426
CREATED:20211028T192759Z
LAST-MODIFIED:20211028T192759Z
UID:1276-1637605800-1637609400@www.churchhillrotary.org
SUMMARY:No Meeting- Happy Thanksgiving
DESCRIPTION:
URL:https://www.churchhillrotary.org/event/no-meeting-happy-thanksgiving/
END:VEVENT
BEGIN:VEVENT
DTSTART;TZID=America/New_York:20211129T183000
DTEND;TZID=America/New_York:20211129T193000
DTSTAMP:20260423T102426
CREATED:20211028T192829Z
LAST-MODIFIED:20211129T200959Z
UID:1278-1638210600-1638214200@www.churchhillrotary.org
SUMMARY:No Club Meeting Tonight
DESCRIPTION:
URL:https://www.churchhillrotary.org/event/club-meeting-3/
END:VEVENT
BEGIN:VEVENT
DTSTART;TZID=America/New_York:20211206T183000
DTEND;TZID=America/New_York:20211206T193000
DTSTAMP:20260423T102426
CREATED:20211116T210729Z
LAST-MODIFIED:20211116T210729Z
UID:1315-1638815400-1638819000@www.churchhillrotary.org
SUMMARY:Club Meeting
DESCRIPTION:
URL:https://www.churchhillrotary.org/event/club-meeting-4/
LOCATION:Patrick Henry Pub & Grill\, 2300 E Broad St\, Richmond\, VA\, 23223\, United States
END:VEVENT
BEGIN:VEVENT
DTSTART;TZID=America/New_York:20211213T183000
DTEND;TZID=America/New_York:20211213T193000
DTSTAMP:20260423T102426
CREATED:20211116T210812Z
LAST-MODIFIED:20211208T162719Z
UID:1317-1639420200-1639423800@www.churchhillrotary.org
SUMMARY:No Club Meeting due to Holiday Social on 12/15/2021.
DESCRIPTION:No club meeting due to Holiday Social on 12/15/2021. \n 
URL:https://www.churchhillrotary.org/event/club-meeting-5/
LOCATION:Patrick Henry Pub & Grill\, 2300 E Broad St\, Richmond\, VA\, 23223\, United States
END:VEVENT
BEGIN:VEVENT
DTSTART;TZID=America/New_York:20211215T183000
DTEND;TZID=America/New_York:20211215T203000
DTSTAMP:20260423T102426
CREATED:20211208T162506Z
LAST-MODIFIED:20211208T162506Z
UID:1380-1639593000-1639600200@www.churchhillrotary.org
SUMMARY:Club Holiday Social
DESCRIPTION:Club Holiday Social at Honey Whyte’s
URL:https://www.churchhillrotary.org/event/club-holiday-social/
LOCATION:Honey Whyte’s\, 2116 East Main Street\, Richmond\, VA\, 23223\, United States
ATTACH;FMTTYPE=image/jpeg:https://www.churchhillrotary.org/wp-content/uploads/2021/12/B6CC566B-8F46-4884-9EC6-33E1D14B5356.jpeg
END:VEVENT
BEGIN:VEVENT
DTSTART;TZID=America/New_York:20211220T183000
DTEND;TZID=America/New_York:20211220T193000
DTSTAMP:20260423T102426
CREATED:20211116T210845Z
LAST-MODIFIED:20211116T210845Z
UID:1319-1640025000-1640028600@www.churchhillrotary.org
SUMMARY:Club Meeting
DESCRIPTION:
URL:https://www.churchhillrotary.org/event/club-meeting-6/
LOCATION:Patrick Henry Pub & Grill\, 2300 E Broad St\, Richmond\, VA\, 23223\, United States
END:VEVENT
BEGIN:VEVENT
DTSTART;TZID=America/New_York:20211227T183000
DTEND;TZID=America/New_York:20211227T193000
DTSTAMP:20260423T102426
CREATED:20211116T211007Z
LAST-MODIFIED:20211208T162631Z
UID:1321-1640629800-1640633400@www.churchhillrotary.org
SUMMARY:No Club Meeting- Happy Holidays!
DESCRIPTION:
URL:https://www.churchhillrotary.org/event/no-club-meeting-happy-holidays/
ATTACH;FMTTYPE=image/jpeg:https://www.churchhillrotary.org/wp-content/uploads/2021/12/AEFA695A-4978-49FF-9CEB-E79DAE16C820.jpeg
END:VEVENT
BEGIN:VEVENT
DTSTART;TZID=America/New_York:20220104T180000
DTEND;TZID=America/New_York:20220104T193000
DTSTAMP:20260423T102426
CREATED:20211208T162913Z
LAST-MODIFIED:20211208T162929Z
UID:1387-1641319200-1641324600@www.churchhillrotary.org
SUMMARY:Club Meeting
DESCRIPTION:
URL:https://www.churchhillrotary.org/event/rotary-meeting-8/
LOCATION:Patrick Henry Pub & Grill\, 2300 E Broad St\, Richmond\, VA\, 23223\, United States
END:VEVENT
BEGIN:VEVENT
DTSTART;TZID=America/New_York:20220110T180000
DTEND;TZID=America/New_York:20220110T193000
DTSTAMP:20260423T102426
CREATED:20211208T163041Z
LAST-MODIFIED:20211208T163041Z
UID:1390-1641837600-1641843000@www.churchhillrotary.org
SUMMARY:Club Meeting
DESCRIPTION:Speaker: Friends of Chimborazo Playground
URL:https://www.churchhillrotary.org/event/club-meeting-7/
LOCATION:Patrick Henry Pub & Grill\, 2300 E Broad St\, Richmond\, VA\, 23223\, United States
END:VEVENT
BEGIN:VEVENT
DTSTART;TZID=America/New_York:20220117T080000
DTEND;TZID=America/New_York:20220117T170000
DTSTAMP:20260423T102426
CREATED:20211208T163134Z
LAST-MODIFIED:20211208T163407Z
UID:1392-1642406400-1642438800@www.churchhillrotary.org
SUMMARY:No Meeting- Out doing service!
DESCRIPTION:
URL:https://www.churchhillrotary.org/event/no-meeting-out-doing-service/
ATTACH;FMTTYPE=image/jpeg:https://www.churchhillrotary.org/wp-content/uploads/2021/12/04E268EC-3647-499F-81AD-2BD916375729.jpeg
END:VEVENT
BEGIN:VEVENT
DTSTART;TZID=America/New_York:20220124T180000
DTEND;TZID=America/New_York:20220124T193000
DTSTAMP:20260423T102426
CREATED:20211208T163208Z
LAST-MODIFIED:20211208T163208Z
UID:1394-1643047200-1643052600@www.churchhillrotary.org
SUMMARY:Club Meeting
DESCRIPTION:
URL:https://www.churchhillrotary.org/event/club-meeting-8/
LOCATION:Patrick Henry Pub & Grill\, 2300 E Broad St\, Richmond\, VA\, 23223\, United States
END:VEVENT
BEGIN:VEVENT
DTSTART;TZID=America/New_York:20220131T180000
DTEND;TZID=America/New_York:20220131T193000
DTSTAMP:20260423T102426
CREATED:20211208T163232Z
LAST-MODIFIED:20211208T163232Z
UID:1396-1643652000-1643657400@www.churchhillrotary.org
SUMMARY:Club Meeting
DESCRIPTION:
URL:https://www.churchhillrotary.org/event/club-meeting-9/
END:VEVENT
BEGIN:VEVENT
DTSTART;TZID=America/New_York:20220425T183000
DTEND;TZID=America/New_York:20220425T193000
DTSTAMP:20260423T102426
CREATED:20220419T001728Z
LAST-MODIFIED:20220419T001846Z
UID:1487-1650911400-1650915000@www.churchhillrotary.org
SUMMARY:No Club Meeting
DESCRIPTION:No club meeting due to Axe Throwing Social on 4/27/22.
URL:https://www.churchhillrotary.org/event/club-meeting-10/
LOCATION:Patrick Henry Pub & Grill\, 2300 E Broad St\, Richmond\, VA\, 23223\, United States
END:VEVENT
BEGIN:VEVENT
DTSTART;TZID=America/New_York:20220427T183000
DTEND;TZID=America/New_York:20220427T203000
DTSTAMP:20260423T102426
CREATED:20220419T002622Z
LAST-MODIFIED:20220419T002640Z
UID:1504-1651084200-1651091400@www.churchhillrotary.org
SUMMARY:Axe Throwing Social
DESCRIPTION:
URL:https://www.churchhillrotary.org/event/ace-throwing-social/
END:VEVENT
BEGIN:VEVENT
DTSTART;TZID=America/New_York:20220430T080000
DTEND;TZID=America/New_York:20220430T150000
DTSTAMP:20260423T102426
CREATED:20220419T003142Z
LAST-MODIFIED:20220419T003355Z
UID:1517-1651305600-1651330800@www.churchhillrotary.org
SUMMARY:Rotary District Training
DESCRIPTION:
URL:https://www.churchhillrotary.org/event/club-meeting-14/
LOCATION:Willamsburg\, VA
END:VEVENT
BEGIN:VEVENT
DTSTART;TZID=America/New_York:20220501T130000
DTEND;TZID=America/New_York:20220501T160000
DTSTAMP:20260423T102426
CREATED:20220419T001443Z
LAST-MODIFIED:20220419T001443Z
UID:1485-1651410000-1651420800@www.churchhillrotary.org
SUMMARY:Flying Squirrels Baseball Game
DESCRIPTION:
URL:https://www.churchhillrotary.org/event/flying-squirrels-baseball-game/
END:VEVENT
BEGIN:VEVENT
DTSTART;TZID=America/New_York:20220502T183000
DTEND;TZID=America/New_York:20220502T193000
DTSTAMP:20260423T102426
CREATED:20220419T001944Z
LAST-MODIFIED:20220419T001944Z
UID:1491-1651516200-1651519800@www.churchhillrotary.org
SUMMARY:No Club Meeting
DESCRIPTION:No club meeting due to Baseball Game Social on 5/1/22.
URL:https://www.churchhillrotary.org/event/no-club-meeting/
END:VEVENT
BEGIN:VEVENT
DTSTART;TZID=America/New_York:20220509T183000
DTEND;TZID=America/New_York:20220509T193000
DTSTAMP:20260423T102426
CREATED:20220419T001335Z
LAST-MODIFIED:20220419T002141Z
UID:1483-1652121000-1652124600@www.churchhillrotary.org
SUMMARY:Club Meeting
DESCRIPTION:
URL:https://www.churchhillrotary.org/event/axe-throwing-social/
LOCATION:Patrick Henry Pub & Grill\, 2300 E Broad St\, Richmond\, VA\, 23223\, United States
END:VEVENT
BEGIN:VEVENT
DTSTART;TZID=America/New_York:20220516T183000
DTEND;TZID=America/New_York:20220516T193000
DTSTAMP:20260423T102426
CREATED:20220419T002219Z
LAST-MODIFIED:20220419T002219Z
UID:1495-1652725800-1652729400@www.churchhillrotary.org
SUMMARY:Clean-up Project in Church Hill
DESCRIPTION:
URL:https://www.churchhillrotary.org/event/clean-up-project-in-church-hill/
END:VEVENT
BEGIN:VEVENT
DTSTART;TZID=America/New_York:20220520T080000
DTEND;TZID=America/New_York:20220520T150000
DTSTAMP:20260423T102426
CREATED:20220419T002305Z
LAST-MODIFIED:20220419T002305Z
UID:1497-1653033600-1653058800@www.churchhillrotary.org
SUMMARY:Habitat for Humanity in Church Hill
DESCRIPTION:
URL:https://www.churchhillrotary.org/event/habitat-for-humanity-in-church-hill/
END:VEVENT
BEGIN:VEVENT
DTSTART;TZID=America/New_York:20220523T183000
DTEND;TZID=America/New_York:20220523T193000
DTSTAMP:20260423T102426
CREATED:20220419T002337Z
LAST-MODIFIED:20220419T002337Z
UID:1499-1653330600-1653334200@www.churchhillrotary.org
SUMMARY:Club Meeting
DESCRIPTION:
URL:https://www.churchhillrotary.org/event/club-meeting-11/
LOCATION:Patrick Henry Pub & Grill\, 2300 E Broad St\, Richmond\, VA\, 23223\, United States
END:VEVENT
BEGIN:VEVENT
DTSTART;TZID=America/New_York:20220530T080000
DTEND;TZID=America/New_York:20220530T170000
DTSTAMP:20260423T102426
CREATED:20220419T002420Z
LAST-MODIFIED:20220419T002420Z
UID:1501-1653897600-1653930000@www.churchhillrotary.org
SUMMARY:No Club Meeting
DESCRIPTION:No club meeting due to holiday. Happy Memorial Day!
URL:https://www.churchhillrotary.org/event/no-club-meeting-2/
END:VEVENT
BEGIN:VEVENT
DTSTART;TZID=America/New_York:20220606T183000
DTEND;TZID=America/New_York:20220606T193000
DTSTAMP:20260423T102426
CREATED:20220419T002759Z
LAST-MODIFIED:20220419T002759Z
UID:1507-1654540200-1654543800@www.churchhillrotary.org
SUMMARY:Club Meeting
DESCRIPTION:
URL:https://www.churchhillrotary.org/event/club-meeting-12/
LOCATION:Patrick Henry Pub & Grill\, 2300 E Broad St\, Richmond\, VA\, 23223\, United States
END:VEVENT
BEGIN:VEVENT
DTSTART;TZID=America/New_York:20220610T173000
DTEND;TZID=America/New_York:20220610T193000
DTSTAMP:20260423T102426
CREATED:20220419T002851Z
LAST-MODIFIED:20220419T003010Z
UID:1509-1654882200-1654889400@www.churchhillrotary.org
SUMMARY:Robinson Theater's In the Sun Again Block Party
DESCRIPTION:
URL:https://www.churchhillrotary.org/event/robinson-theaters-day-in-the-sun-event/
LOCATION:Robinson Theater\, 2903 Q St\, Richmond\, 23223\, United States
END:VEVENT
BEGIN:VEVENT
DTSTART;TZID=America/New_York:20220613T183000
DTEND;TZID=America/New_York:20220613T193000
DTSTAMP:20260423T102426
CREATED:20220419T003037Z
LAST-MODIFIED:20220611T154107Z
UID:1513-1655145000-1655148600@www.churchhillrotary.org
SUMMARY:Club Meeting
DESCRIPTION:Rotary Goals for the upcoming year.
URL:https://www.churchhillrotary.org/event/club-meeting-13/
LOCATION:Patrick Henry Pub & Grill\, 2300 E Broad St\, Richmond\, VA\, 23223\, United States
END:VEVENT
BEGIN:VEVENT
DTSTART;TZID=America/New_York:20220620T183000
DTEND;TZID=America/New_York:20220620T193000
DTSTAMP:20260423T102426
CREATED:20220419T003111Z
LAST-MODIFIED:20220419T003111Z
UID:1515-1655749800-1655753400@www.churchhillrotary.org
SUMMARY:Club Social
DESCRIPTION:To be determined.
URL:https://www.churchhillrotary.org/event/club-social/
END:VEVENT
BEGIN:VEVENT
DTSTART;TZID=America/New_York:20220627T183000
DTEND;TZID=America/New_York:20220627T193000
DTSTAMP:20260423T102426
CREATED:20220611T152922Z
LAST-MODIFIED:20220611T152922Z
UID:1621-1656354600-1656358200@www.churchhillrotary.org
SUMMARY:Club Meeting
DESCRIPTION:
URL:https://www.churchhillrotary.org/event/club-meeting-15/
LOCATION:Patrick Henry Pub & Grill\, 2300 E Broad St\, Richmond\, VA\, 23223\, United States
END:VEVENT
END:VCALENDAR