BEGIN:VCALENDAR
VERSION:2.0
PRODID:-//Church Hill Rotary - ECPv6.15.3//NONSGML v1.0//EN
CALSCALE:GREGORIAN
METHOD:PUBLISH
X-ORIGINAL-URL:https://www.churchhillrotary.org
X-WR-CALDESC:Events for Church Hill Rotary
REFRESH-INTERVAL;VALUE=DURATION:PT1H
X-Robots-Tag:noindex
X-PUBLISHED-TTL:PT1H
BEGIN:VTIMEZONE
TZID:America/New_York
BEGIN:DAYLIGHT
TZOFFSETFROM:-0500
TZOFFSETTO:-0400
TZNAME:EDT
DTSTART:20250309T070000
END:DAYLIGHT
BEGIN:STANDARD
TZOFFSETFROM:-0400
TZOFFSETTO:-0500
TZNAME:EST
DTSTART:20251102T060000
END:STANDARD
BEGIN:DAYLIGHT
TZOFFSETFROM:-0500
TZOFFSETTO:-0400
TZNAME:EDT
DTSTART:20260308T070000
END:DAYLIGHT
BEGIN:STANDARD
TZOFFSETFROM:-0400
TZOFFSETTO:-0500
TZNAME:EST
DTSTART:20261101T060000
END:STANDARD
END:VTIMEZONE
BEGIN:VEVENT
DTSTART;TZID=America/New_York:20251117T183000
DTEND;TZID=America/New_York:20251117T193000
DTSTAMP:20260425T071654
CREATED:20251125T024829Z
LAST-MODIFIED:20251125T024829Z
UID:3236-1763404200-1763407800@www.churchhillrotary.org
SUMMARY:NO CLUB MEETING: Friendsgiving!
DESCRIPTION:
URL:https://www.churchhillrotary.org/event/no-club-meeting-friendsgiving/
LOCATION:VA
END:VEVENT
BEGIN:VEVENT
DTSTART;VALUE=DATE:20251124
DTEND;VALUE=DATE:20251125
DTSTAMP:20260425T071654
CREATED:20251125T024852Z
LAST-MODIFIED:20251125T024852Z
UID:3238-1763942400-1764028799@www.churchhillrotary.org
SUMMARY:NO CLUB MEETING
DESCRIPTION:
URL:https://www.churchhillrotary.org/event/no-club-meeting-14/
LOCATION:VA
END:VEVENT
BEGIN:VEVENT
DTSTART;TZID=America/New_York:20251201T183000
DTEND;TZID=America/New_York:20251201T193000
DTSTAMP:20260425T071654
CREATED:20251125T024941Z
LAST-MODIFIED:20251125T024941Z
UID:3240-1764613800-1764617400@www.churchhillrotary.org
SUMMARY:Club Meeting
DESCRIPTION:
URL:https://www.churchhillrotary.org/event/club-meeting-68/
LOCATION:Patrick Henry Pub & Grill\, 2300 E Broad St\, Richmond\, VA\, 23223\, United States
END:VEVENT
BEGIN:VEVENT
DTSTART;TZID=America/New_York:20251208T183000
DTEND;TZID=America/New_York:20251208T193000
DTSTAMP:20260425T071654
CREATED:20251125T025022Z
LAST-MODIFIED:20251202T013649Z
UID:3242-1765218600-1765222200@www.churchhillrotary.org
SUMMARY:NO CLUB MEETING: Robinson Theater volunteering on Weds 10 Dec
DESCRIPTION:
URL:https://www.churchhillrotary.org/event/club-meeting-69/
LOCATION:VA
END:VEVENT
BEGIN:VEVENT
DTSTART;TZID=America/New_York:20251215T183000
DTEND;TZID=America/New_York:20251215T193000
DTSTAMP:20260425T071654
CREATED:20251125T025058Z
LAST-MODIFIED:20251125T025058Z
UID:3244-1765823400-1765827000@www.churchhillrotary.org
SUMMARY:NO CLUB MEETING: Holiday Party!
DESCRIPTION:
URL:https://www.churchhillrotary.org/event/no-club-meeting-holiday-party/
LOCATION:Patrick Henry Pub & Grill\, 2300 E Broad St\, Richmond\, VA\, 23223\, United States
END:VEVENT
BEGIN:VEVENT
DTSTART;TZID=America/New_York:20251222T183000
DTEND;TZID=America/New_York:20251222T193000
DTSTAMP:20260425T071654
CREATED:20251125T025133Z
LAST-MODIFIED:20251125T025133Z
UID:3246-1766428200-1766431800@www.churchhillrotary.org
SUMMARY:NO CLUB MEETING
DESCRIPTION:
URL:https://www.churchhillrotary.org/event/no-club-meeting-15/
LOCATION:VA
END:VEVENT
BEGIN:VEVENT
DTSTART;TZID=America/New_York:20251229T183000
DTEND;TZID=America/New_York:20251229T193000
DTSTAMP:20260425T071654
CREATED:20251125T025158Z
LAST-MODIFIED:20251125T025158Z
UID:3248-1767033000-1767036600@www.churchhillrotary.org
SUMMARY:NO CLUB MEETING
DESCRIPTION:
URL:https://www.churchhillrotary.org/event/no-club-meeting-16/
LOCATION:VA
END:VEVENT
BEGIN:VEVENT
DTSTART;TZID=America/New_York:20260105T183000
DTEND;TZID=America/New_York:20260105T193000
DTSTAMP:20260425T071654
CREATED:20251125T025232Z
LAST-MODIFIED:20251125T025232Z
UID:3250-1767637800-1767641400@www.churchhillrotary.org
SUMMARY:Club Meeting: 5k Planning
DESCRIPTION:
URL:https://www.churchhillrotary.org/event/club-meeting-5k-planning-3/
LOCATION:VA
END:VEVENT
BEGIN:VEVENT
DTSTART;TZID=America/New_York:20260112T183000
DTEND;TZID=America/New_York:20260112T193000
DTSTAMP:20260425T071654
CREATED:20260106T222126Z
LAST-MODIFIED:20260106T222126Z
UID:3253-1768242600-1768246200@www.churchhillrotary.org
SUMMARY:Club Meeting: 5k Planning
DESCRIPTION:
URL:https://www.churchhillrotary.org/event/club-meeting-5k-planning-4/
LOCATION:Patrick Henry Pub & Grill\, 2300 E Broad St\, Richmond\, VA\, 23223\, United States
END:VEVENT
BEGIN:VEVENT
DTSTART;VALUE=DATE:20260119
DTEND;VALUE=DATE:20260120
DTSTAMP:20260425T071654
CREATED:20260106T222205Z
LAST-MODIFIED:20260106T222205Z
UID:3255-1768780800-1768867199@www.churchhillrotary.org
SUMMARY:NO CLUB MEETING: MLK Day Service!
DESCRIPTION:
URL:https://www.churchhillrotary.org/event/no-club-meeting-mlk-day-service/
LOCATION:VA
END:VEVENT
BEGIN:VEVENT
DTSTART;TZID=America/New_York:20260126T183000
DTEND;TZID=America/New_York:20260126T193000
DTSTAMP:20260425T071654
CREATED:20260106T222244Z
LAST-MODIFIED:20260127T024146Z
UID:3257-1769452200-1769455800@www.churchhillrotary.org
SUMMARY:CANCELLED Club Meeting (snow!)
DESCRIPTION:
URL:https://www.churchhillrotary.org/event/club-meeting-5k-planning-5/
LOCATION:Patrick Henry Pub & Grill\, 2300 E Broad St\, Richmond\, VA\, 23223\, United States
END:VEVENT
BEGIN:VEVENT
DTSTART;TZID=America/New_York:20260126T183000
DTEND;TZID=America/New_York:20260126T193000
DTSTAMP:20260425T071654
CREATED:20260127T024845Z
LAST-MODIFIED:20260127T024845Z
UID:3272-1769452200-1769455800@www.churchhillrotary.org
SUMMARY:NO Club Meeting: 5k Swag Bags
DESCRIPTION:
URL:https://www.churchhillrotary.org/event/no-club-meeting-5k-swag-bags/
LOCATION:VA
END:VEVENT
BEGIN:VEVENT
DTSTART;TZID=America/New_York:20260202T183000
DTEND;TZID=America/New_York:20260202T193000
DTSTAMP:20260425T071654
CREATED:20260127T024230Z
LAST-MODIFIED:20260127T024252Z
UID:3260-1770057000-1770060600@www.churchhillrotary.org
SUMMARY:Club Meeting: 5k Planning
DESCRIPTION:
URL:https://www.churchhillrotary.org/event/club-meeting-5k-planning-6/
LOCATION:Patrick Henry Pub & Grill\, 2300 E Broad St\, Richmond\, VA\, 23223\, United States
END:VEVENT
BEGIN:VEVENT
DTSTART;TZID=America/New_York:20260209T183000
DTEND;TZID=America/New_York:20260209T193000
DTSTAMP:20260425T071654
CREATED:20260127T024417Z
LAST-MODIFIED:20260127T024417Z
UID:3262-1770661800-1770665400@www.churchhillrotary.org
SUMMARY:Club Meeting
DESCRIPTION:
URL:https://www.churchhillrotary.org/event/club-meeting-70/
LOCATION:Patrick Henry Pub & Grill\, 2300 E Broad St\, Richmond\, VA\, 23223\, United States
END:VEVENT
BEGIN:VEVENT
DTSTART;TZID=America/New_York:20260216T183000
DTEND;TZID=America/New_York:20260216T193000
DTSTAMP:20260425T071654
CREATED:20260127T024544Z
LAST-MODIFIED:20260127T024544Z
UID:3264-1771266600-1771270200@www.churchhillrotary.org
SUMMARY:NO Club Meeting (service or social)
DESCRIPTION:
URL:https://www.churchhillrotary.org/event/no-club-meeting-service-or-social/
LOCATION:VA
END:VEVENT
BEGIN:VEVENT
DTSTART;TZID=America/New_York:20260223T183000
DTEND;TZID=America/New_York:20260223T193000
DTSTAMP:20260425T071654
CREATED:20260127T024621Z
LAST-MODIFIED:20260127T024621Z
UID:3266-1771871400-1771875000@www.churchhillrotary.org
SUMMARY:Club Meeting
DESCRIPTION:
URL:https://www.churchhillrotary.org/event/club-meeting-71/
LOCATION:Patrick Henry Pub & Grill\, 2300 E Broad St\, Richmond\, VA\, 23223\, United States
END:VEVENT
BEGIN:VEVENT
DTSTART;TZID=America/New_York:20260302T183000
DTEND;TZID=America/New_York:20260302T193000
DTSTAMP:20260425T071654
CREATED:20260127T024657Z
LAST-MODIFIED:20260127T024657Z
UID:3268-1772476200-1772479800@www.churchhillrotary.org
SUMMARY:Club Meeting
DESCRIPTION:
URL:https://www.churchhillrotary.org/event/club-meeting-72/
LOCATION:Patrick Henry Pub & Grill\, 2300 E Broad St\, Richmond\, VA\, 23223\, United States
END:VEVENT
BEGIN:VEVENT
DTSTART;TZID=America/New_York:20260309T183000
DTEND;TZID=America/New_York:20260309T193000
DTSTAMP:20260425T071654
CREATED:20260127T024740Z
LAST-MODIFIED:20260127T024740Z
UID:3270-1773081000-1773084600@www.churchhillrotary.org
SUMMARY:Club Meeting
DESCRIPTION:
URL:https://www.churchhillrotary.org/event/club-meeting-73/
LOCATION:Patrick Henry Pub & Grill\, 2300 E Broad St\, Richmond\, VA\, 23223\, United States
END:VEVENT
BEGIN:VEVENT
DTSTART;TZID=America/New_York:20260322T090000
DTEND;TZID=America/New_York:20260322T100000
DTSTAMP:20260425T071654
CREATED:20260127T024931Z
LAST-MODIFIED:20260127T024931Z
UID:3274-1774170000-1774173600@www.churchhillrotary.org
SUMMARY:HILL TOPPER 5K!!!
DESCRIPTION:
URL:https://www.churchhillrotary.org/event/hill-topper-5k-2/
LOCATION:Irish Festival\, 300 25th St\, Richmond\, VA\, 23223\, United States
END:VEVENT
BEGIN:VEVENT
DTSTART;TZID=America/New_York:20260323T183000
DTEND;TZID=America/New_York:20260323T193000
DTSTAMP:20260425T071654
CREATED:20260127T025006Z
LAST-MODIFIED:20260127T025058Z
UID:3276-1774290600-1774294200@www.churchhillrotary.org
SUMMARY:NO Club Meeting: Post-5k Rest
DESCRIPTION:
URL:https://www.churchhillrotary.org/event/no-club-meeting-post-5k-rest/
LOCATION:VA
END:VEVENT
BEGIN:VEVENT
DTSTART;TZID=America/New_York:20260330T183000
DTEND;TZID=America/New_York:20260330T193000
DTSTAMP:20260425T071654
CREATED:20260414T014946Z
LAST-MODIFIED:20260414T014946Z
UID:3291-1774895400-1774899000@www.churchhillrotary.org
SUMMARY:Club Meeting: 5k Recap
DESCRIPTION:
URL:https://www.churchhillrotary.org/event/club-meeting-5k-recap/
LOCATION:Patrick Henry Pub & Grill\, 2300 E Broad St\, Richmond\, VA\, 23223\, United States
END:VEVENT
BEGIN:VEVENT
DTSTART;TZID=America/New_York:20260406T183000
DTEND;TZID=America/New_York:20260406T193000
DTSTAMP:20260425T071654
CREATED:20260414T015111Z
LAST-MODIFIED:20260414T015111Z
UID:3293-1775500200-1775503800@www.churchhillrotary.org
SUMMARY:Club Game Night
DESCRIPTION:
URL:https://www.churchhillrotary.org/event/club-game-night-3/
LOCATION:Patrick Henry Pub & Grill\, 2300 E Broad St\, Richmond\, VA\, 23223\, United States
END:VEVENT
BEGIN:VEVENT
DTSTART;TZID=America/New_York:20260413T183000
DTEND;TZID=America/New_York:20260413T193000
DTSTAMP:20260425T071654
CREATED:20260414T015201Z
LAST-MODIFIED:20260414T015201Z
UID:3295-1776105000-1776108600@www.churchhillrotary.org
SUMMARY:Club Meeting/Service: Meal Packing
DESCRIPTION:
URL:https://www.churchhillrotary.org/event/club-meeting-service-meal-packing/
LOCATION:Patrick Henry Pub & Grill\, 2300 E Broad St\, Richmond\, VA\, 23223\, United States
END:VEVENT
BEGIN:VEVENT
DTSTART;TZID=America/New_York:20260420T180000
DTEND;TZID=America/New_York:20260420T193000
DTSTAMP:20260425T071654
CREATED:20260414T015354Z
LAST-MODIFIED:20260414T015354Z
UID:3297-1776708000-1776713400@www.churchhillrotary.org
SUMMARY:Club Service: Trash Pick-Up
DESCRIPTION:
URL:https://www.churchhillrotary.org/event/club-service-trash-pick-up/
LOCATION:VA
END:VEVENT
BEGIN:VEVENT
DTSTART;TZID=America/New_York:20260427T183000
DTEND;TZID=America/New_York:20260427T193000
DTSTAMP:20260425T071654
CREATED:20260414T015519Z
LAST-MODIFIED:20260414T015519Z
UID:3299-1777314600-1777318200@www.churchhillrotary.org
SUMMARY:Club Meeting
DESCRIPTION:
URL:https://www.churchhillrotary.org/event/club-meeting-74/
LOCATION:Patrick Henry Pub & Grill\, 2300 E Broad St\, Richmond\, VA\, 23223\, United States
END:VEVENT
BEGIN:VEVENT
DTSTART;TZID=America/New_York:20260504T180000
DTEND;TZID=America/New_York:20260504T200000
DTSTAMP:20260425T071654
CREATED:20260414T015710Z
LAST-MODIFIED:20260414T015710Z
UID:3301-1777917600-1777924800@www.churchhillrotary.org
SUMMARY:EVENT: Prospective Members Social @ Triple Crossing
DESCRIPTION:
URL:https://www.churchhillrotary.org/event/event-prospective-members-social-triple-crossing/
LOCATION:Triple Crossing Brewery\, 5203 Hatcher St\, Richmond\, VA\, 23231\, United States
END:VEVENT
BEGIN:VEVENT
DTSTART;TZID=America/New_York:20260511T080000
DTEND;TZID=America/New_York:20260511T170000
DTSTAMP:20260425T071654
CREATED:20260414T015833Z
LAST-MODIFIED:20260414T015833Z
UID:3303-1778486400-1778518800@www.churchhillrotary.org
SUMMARY:NO CLUB MEETING - Club Service Tues 5/12
DESCRIPTION:
URL:https://www.churchhillrotary.org/event/no-club-meeting-club-service-tues-5-12/
LOCATION:VA
END:VEVENT
END:VCALENDAR