BEGIN:VCALENDAR
VERSION:2.0
PRODID:-//Church Hill Rotary - ECPv6.15.3//NONSGML v1.0//EN
CALSCALE:GREGORIAN
METHOD:PUBLISH
X-ORIGINAL-URL:https://www.churchhillrotary.org
X-WR-CALDESC:Events for Church Hill Rotary
REFRESH-INTERVAL;VALUE=DURATION:PT1H
X-Robots-Tag:noindex
X-PUBLISHED-TTL:PT1H
BEGIN:VTIMEZONE
TZID:America/New_York
BEGIN:DAYLIGHT
TZOFFSETFROM:-0500
TZOFFSETTO:-0400
TZNAME:EDT
DTSTART:20250309T070000
END:DAYLIGHT
BEGIN:STANDARD
TZOFFSETFROM:-0400
TZOFFSETTO:-0500
TZNAME:EST
DTSTART:20251102T060000
END:STANDARD
END:VTIMEZONE
BEGIN:VEVENT
DTSTART;TZID=America/New_York:20251208T183000
DTEND;TZID=America/New_York:20251208T193000
DTSTAMP:20260425T073455
CREATED:20251125T025022Z
LAST-MODIFIED:20251202T013649Z
UID:3242-1765218600-1765222200@www.churchhillrotary.org
SUMMARY:NO CLUB MEETING: Robinson Theater volunteering on Weds 10 Dec
DESCRIPTION:
URL:https://www.churchhillrotary.org/event/club-meeting-69/
END:VEVENT
BEGIN:VEVENT
DTSTART;TZID=America/New_York:20251201T183000
DTEND;TZID=America/New_York:20251201T193000
DTSTAMP:20260425T073455
CREATED:20251125T024941Z
LAST-MODIFIED:20251125T024941Z
UID:3240-1764613800-1764617400@www.churchhillrotary.org
SUMMARY:Club Meeting
DESCRIPTION:
URL:https://www.churchhillrotary.org/event/club-meeting-68/
LOCATION:Patrick Henry Pub & Grill\, 2300 E Broad St\, Richmond\, VA\, 23223\, United States
END:VEVENT
BEGIN:VEVENT
DTSTART;VALUE=DATE:20251124
DTEND;VALUE=DATE:20251125
DTSTAMP:20260425T073455
CREATED:20251125T024852Z
LAST-MODIFIED:20251125T024852Z
UID:3238-1763942400-1764028799@www.churchhillrotary.org
SUMMARY:NO CLUB MEETING
DESCRIPTION:
URL:https://www.churchhillrotary.org/event/no-club-meeting-14/
END:VEVENT
BEGIN:VEVENT
DTSTART;TZID=America/New_York:20251117T183000
DTEND;TZID=America/New_York:20251117T193000
DTSTAMP:20260425T073455
CREATED:20251125T024829Z
LAST-MODIFIED:20251125T024829Z
UID:3236-1763404200-1763407800@www.churchhillrotary.org
SUMMARY:NO CLUB MEETING: Friendsgiving!
DESCRIPTION:
URL:https://www.churchhillrotary.org/event/no-club-meeting-friendsgiving/
END:VEVENT
BEGIN:VEVENT
DTSTART;TZID=America/New_York:20251110T183000
DTEND;TZID=America/New_York:20251110T193000
DTSTAMP:20260425T073455
CREATED:20251125T024742Z
LAST-MODIFIED:20251125T024742Z
UID:3234-1762799400-1762803000@www.churchhillrotary.org
SUMMARY:CLUB MEETING: 5k Planning
DESCRIPTION:
URL:https://www.churchhillrotary.org/event/club-meeting-5k-planning-2/
LOCATION:Patrick Henry Pub & Grill\, 2300 E Broad St\, Richmond\, VA\, 23223\, United States
END:VEVENT
BEGIN:VEVENT
DTSTART;TZID=America/New_York:20251027T183000
DTEND;TZID=America/New_York:20251027T193000
DTSTAMP:20260425T073455
CREATED:20251021T013029Z
LAST-MODIFIED:20251021T013029Z
UID:3232-1761589800-1761593400@www.churchhillrotary.org
SUMMARY:NO CLUB MEETING
DESCRIPTION:
URL:https://www.churchhillrotary.org/event/no-club-meeting-13/
END:VEVENT
BEGIN:VEVENT
DTSTART;TZID=America/New_York:20251026T150000
DTEND;TZID=America/New_York:20251026T170000
DTSTAMP:20260425T073455
CREATED:20251021T012950Z
LAST-MODIFIED:20251021T012950Z
UID:3230-1761490800-1761498000@www.churchhillrotary.org
SUMMARY:Club Service: Robinson Theater Trunk or Treat
DESCRIPTION:
URL:https://www.churchhillrotary.org/event/club-service-robinson-theater-trunk-or-treat/
LOCATION:Robinson Theater\, 2903 Q St\, Richmond\, 23223\, United States
END:VEVENT
BEGIN:VEVENT
DTSTART;TZID=America/New_York:20251023T170000
DTEND;TZID=America/New_York:20251023T200000
DTSTAMP:20260425T073455
CREATED:20251021T012842Z
LAST-MODIFIED:20251021T012842Z
UID:3228-1761238800-1761249600@www.churchhillrotary.org
SUMMARY:Purple Pinky Fundraiser Event
DESCRIPTION:
URL:https://www.churchhillrotary.org/event/purple-pinky-fundraiser-event/
LOCATION:Honey Whyte’s\, 2116 East Main Street\, Richmond\, VA\, 23223\, United States
END:VEVENT
BEGIN:VEVENT
DTSTART;TZID=America/New_York:20251020T183000
DTEND;TZID=America/New_York:20251020T193000
DTSTAMP:20260425T073455
CREATED:20251021T012638Z
LAST-MODIFIED:20251021T012638Z
UID:3225-1760985000-1760988600@www.churchhillrotary.org
SUMMARY:Club Meeting: Purple Pinky Planning
DESCRIPTION:
URL:https://www.churchhillrotary.org/event/club-meeting-purple-pinky-planning-2/
LOCATION:Patrick Henry Pub & Grill\, 2300 E Broad St\, Richmond\, VA\, 23223\, United States
END:VEVENT
BEGIN:VEVENT
DTSTART;TZID=America/New_York:20251013T173000
DTEND;TZID=America/New_York:20251013T183000
DTSTAMP:20260425T073455
CREATED:20251021T012556Z
LAST-MODIFIED:20251021T012556Z
UID:3223-1760376600-1760380200@www.churchhillrotary.org
SUMMARY:Club Service: Trash Pickup
DESCRIPTION:
URL:https://www.churchhillrotary.org/event/club-service-trash-pickup/
LOCATION:Robinson Theater\, 2903 Q St\, Richmond\, 23223\, United States
END:VEVENT
BEGIN:VEVENT
DTSTART;TZID=America/New_York:20251006T183000
DTEND;TZID=America/New_York:20251006T193000
DTSTAMP:20260425T073455
CREATED:20251021T012506Z
LAST-MODIFIED:20251021T012506Z
UID:3221-1759775400-1759779000@www.churchhillrotary.org
SUMMARY:Club Meeting: Purple Pinky Planning
DESCRIPTION:
URL:https://www.churchhillrotary.org/event/club-meeting-purple-pinky-planning/
LOCATION:Patrick Henry Pub & Grill\, 2300 E Broad St\, Richmond\, VA\, 23223\, United States
END:VEVENT
BEGIN:VEVENT
DTSTART;TZID=America/New_York:20250929T183000
DTEND;TZID=America/New_York:20250929T193000
DTSTAMP:20260425T073455
CREATED:20251021T012409Z
LAST-MODIFIED:20251021T012409Z
UID:3219-1759170600-1759174200@www.churchhillrotary.org
SUMMARY:New Club Member Presentations
DESCRIPTION:
URL:https://www.churchhillrotary.org/event/new-club-member-presentations-2/
LOCATION:Common House
END:VEVENT
BEGIN:VEVENT
DTSTART;TZID=America/New_York:20250922T183000
DTEND;TZID=America/New_York:20250922T193000
DTSTAMP:20260425T073455
CREATED:20251021T012315Z
LAST-MODIFIED:20251021T012315Z
UID:3217-1758565800-1758569400@www.churchhillrotary.org
SUMMARY:Club Game Night
DESCRIPTION:
URL:https://www.churchhillrotary.org/event/club-game-night-2/
LOCATION:Patrick Henry Pub & Grill\, 2300 E Broad St\, Richmond\, VA\, 23223\, United States
END:VEVENT
BEGIN:VEVENT
DTSTART;TZID=America/New_York:20250920T090000
DTEND;TZID=America/New_York:20250920T120000
DTSTAMP:20260425T073455
CREATED:20251021T012224Z
LAST-MODIFIED:20251021T012224Z
UID:3215-1758358800-1758369600@www.churchhillrotary.org
SUMMARY:Club Service: Chimborazo Park Cleanup
DESCRIPTION:
URL:https://www.churchhillrotary.org/event/club-service-chimborazo-park-cleanup/
LOCATION:Chimborazo Park
END:VEVENT
BEGIN:VEVENT
DTSTART;TZID=America/New_York:20250915T170000
DTEND;TZID=America/New_York:20250915T210000
DTSTAMP:20260425T073455
CREATED:20251021T012110Z
LAST-MODIFIED:20251021T012110Z
UID:3214-1757955600-1757970000@www.churchhillrotary.org
SUMMARY:Club Social: Sturgeon Watching on the James River!
DESCRIPTION:
URL:https://www.churchhillrotary.org/event/club-social-sturgeon-watching-on-the-james-river/
END:VEVENT
BEGIN:VEVENT
DTSTART;TZID=America/New_York:20250908T183000
DTEND;TZID=America/New_York:20250908T193000
DTSTAMP:20260425T073455
CREATED:20251021T012024Z
LAST-MODIFIED:20251021T012024Z
UID:3212-1757356200-1757359800@www.churchhillrotary.org
SUMMARY:Club Meeting
DESCRIPTION:
URL:https://www.churchhillrotary.org/event/club-meeting-67/
LOCATION:Patrick Henry Pub & Grill\, 2300 E Broad St\, Richmond\, VA\, 23223\, United States
END:VEVENT
BEGIN:VEVENT
DTSTART;TZID=America/New_York:20250825T183000
DTEND;TZID=America/New_York:20250825T193000
DTSTAMP:20260425T073455
CREATED:20251021T011916Z
LAST-MODIFIED:20251021T011916Z
UID:3210-1756146600-1756150200@www.churchhillrotary.org
SUMMARY:Club Meeting: Grant Planning (Music Orchard Richmond)
DESCRIPTION:
URL:https://www.churchhillrotary.org/event/club-meeting-grant-planning-music-orchard-richmond/
LOCATION:Patrick Henry Pub & Grill\, 2300 E Broad St\, Richmond\, VA\, 23223\, United States
END:VEVENT
BEGIN:VEVENT
DTSTART;TZID=America/New_York:20250818T183000
DTEND;TZID=America/New_York:20250818T193000
DTSTAMP:20260425T073455
CREATED:20251021T011806Z
LAST-MODIFIED:20251021T011806Z
UID:3207-1755541800-1755545400@www.churchhillrotary.org
SUMMARY:New Club Member Presentations
DESCRIPTION:
URL:https://www.churchhillrotary.org/event/new-club-member-presentations/
LOCATION:Common House
END:VEVENT
BEGIN:VEVENT
DTSTART;TZID=America/New_York:20250811T183000
DTEND;TZID=America/New_York:20250811T193000
DTSTAMP:20260425T073455
CREATED:20251021T011654Z
LAST-MODIFIED:20251021T011654Z
UID:3205-1754937000-1754940600@www.churchhillrotary.org
SUMMARY:Club Game Night
DESCRIPTION:
URL:https://www.churchhillrotary.org/event/club-game-night/
LOCATION:Patrick Henry Pub & Grill\, 2300 E Broad St\, Richmond\, VA\, 23223\, United States
END:VEVENT
BEGIN:VEVENT
DTSTART;TZID=America/New_York:20250804T183000
DTEND;TZID=America/New_York:20250804T193000
DTSTAMP:20260425T073455
CREATED:20251021T011543Z
LAST-MODIFIED:20251021T011543Z
UID:3203-1754332200-1754335800@www.churchhillrotary.org
SUMMARY:Club Meeting: 5k Planning
DESCRIPTION:
URL:https://www.churchhillrotary.org/event/club-meeting-5k-planning/
LOCATION:Patrick Henry Pub & Grill\, 2300 E Broad St\, Richmond\, VA\, 23223\, United States
END:VEVENT
BEGIN:VEVENT
DTSTART;TZID=America/New_York:20250728T183000
DTEND;TZID=America/New_York:20250728T193000
DTSTAMP:20260425T073455
CREATED:20251021T011413Z
LAST-MODIFIED:20251021T011413Z
UID:3201-1753727400-1753731000@www.churchhillrotary.org
SUMMARY:Club Meeting: School Supply Drive
DESCRIPTION:
URL:https://www.churchhillrotary.org/event/club-meeting-school-supply-drive/
LOCATION:Patrick Henry Pub & Grill\, 2300 E Broad St\, Richmond\, VA\, 23223\, United States
END:VEVENT
BEGIN:VEVENT
DTSTART;TZID=America/New_York:20250721T183000
DTEND;TZID=America/New_York:20250721T193000
DTSTAMP:20260425T073455
CREATED:20251021T011306Z
LAST-MODIFIED:20251021T011306Z
UID:3199-1753122600-1753126200@www.churchhillrotary.org
SUMMARY:Club Meeting: District Governor Visit
DESCRIPTION:
URL:https://www.churchhillrotary.org/event/club-meeting-district-governor-visit/
LOCATION:Patrick Henry Pub & Grill\, 2300 E Broad St\, Richmond\, VA\, 23223\, United States
END:VEVENT
BEGIN:VEVENT
DTSTART;TZID=America/New_York:20250714T183000
DTEND;TZID=America/New_York:20250714T193000
DTSTAMP:20260425T073455
CREATED:20251021T011047Z
LAST-MODIFIED:20251021T011047Z
UID:3194-1752517800-1752521400@www.churchhillrotary.org
SUMMARY:Club Meeting
DESCRIPTION:
URL:https://www.churchhillrotary.org/event/club-meeting-66/
LOCATION:Patrick Henry Pub & Grill\, 2300 E Broad St\, Richmond\, VA\, 23223\, United States
END:VEVENT
BEGIN:VEVENT
DTSTART;TZID=America/New_York:20250707T183000
DTEND;TZID=America/New_York:20250707T193000
DTSTAMP:20260425T073455
CREATED:20251021T010954Z
LAST-MODIFIED:20251021T010954Z
UID:3192-1751913000-1751916600@www.churchhillrotary.org
SUMMARY:Club Meeting: New Board Swear-In Ceremony!
DESCRIPTION:
URL:https://www.churchhillrotary.org/event/club-meeting-new-board-swear-in-ceremony/
LOCATION:Patrick Henry Pub & Grill\, 2300 E Broad St\, Richmond\, VA\, 23223\, United States
END:VEVENT
BEGIN:VEVENT
DTSTART;TZID=America/New_York:20250623T180000
DTEND;TZID=America/New_York:20250623T200000
DTSTAMP:20260425T073455
CREATED:20250428T201224Z
LAST-MODIFIED:20250428T201224Z
UID:2772-1750701600-1750708800@www.churchhillrotary.org
SUMMARY:Membership Interest Social Event
DESCRIPTION:
URL:https://www.churchhillrotary.org/event/membership-interest-social-event/
LOCATION:Triple Crossing Brewery\, 5203 Hatcher St\, Richmond\, VA\, 23231\, United States
END:VEVENT
BEGIN:VEVENT
DTSTART;TZID=America/New_York:20250616T183000
DTEND;TZID=America/New_York:20250616T193000
DTSTAMP:20260425T073455
CREATED:20250428T201138Z
LAST-MODIFIED:20250428T201138Z
UID:2770-1750098600-1750102200@www.churchhillrotary.org
SUMMARY:NO Club Meeting
DESCRIPTION:
URL:https://www.churchhillrotary.org/event/no-club-meeting-12/
END:VEVENT
BEGIN:VEVENT
DTSTART;TZID=America/New_York:20250613T170000
DTEND;TZID=America/New_York:20250613T200000
DTSTAMP:20260425T073455
CREATED:20250428T201055Z
LAST-MODIFIED:20250428T201055Z
UID:2768-1749834000-1749844800@www.churchhillrotary.org
SUMMARY:Robinson Theater "Fun in the Sun"
DESCRIPTION:
URL:https://www.churchhillrotary.org/event/robinson-theater-fun-in-the-sun/
LOCATION:Robinson Theater\, 2903 Q St\, Richmond\, 23223\, United States
END:VEVENT
BEGIN:VEVENT
DTSTART;TZID=America/New_York:20250609T180000
DTEND;TZID=America/New_York:20250609T193000
DTSTAMP:20260425T073455
CREATED:20250428T201005Z
LAST-MODIFIED:20250428T201005Z
UID:2766-1749492000-1749497400@www.churchhillrotary.org
SUMMARY:Club Service - Trash Pick Up near Robinson Theater
DESCRIPTION:
URL:https://www.churchhillrotary.org/event/club-service-trash-pick-up-near-robinson-theater/
LOCATION:Robinson Theater\, 2903 Q St\, Richmond\, 23223\, United States
END:VEVENT
BEGIN:VEVENT
DTSTART;TZID=America/New_York:20250602T183000
DTEND;TZID=America/New_York:20250602T193000
DTSTAMP:20260425T073455
CREATED:20250428T200915Z
LAST-MODIFIED:20250428T200915Z
UID:2764-1748889000-1748892600@www.churchhillrotary.org
SUMMARY:NO Club Meeting
DESCRIPTION:
URL:https://www.churchhillrotary.org/event/no-club-meeting-11/
END:VEVENT
BEGIN:VEVENT
DTSTART;TZID=America/New_York:20250601T120000
DTEND;TZID=America/New_York:20250601T140000
DTSTAMP:20260425T073455
CREATED:20250428T200841Z
LAST-MODIFIED:20250428T200841Z
UID:2762-1748779200-1748786400@www.churchhillrotary.org
SUMMARY:Club Social
DESCRIPTION:
URL:https://www.churchhillrotary.org/event/club-social-2/
END:VEVENT
END:VCALENDAR