BEGIN:VCALENDAR
VERSION:2.0
PRODID:-//Church Hill Rotary - ECPv6.15.3//NONSGML v1.0//EN
CALSCALE:GREGORIAN
METHOD:PUBLISH
X-WR-CALNAME:Church Hill Rotary
X-ORIGINAL-URL:https://www.churchhillrotary.org
X-WR-CALDESC:Events for Church Hill Rotary
REFRESH-INTERVAL;VALUE=DURATION:PT1H
X-Robots-Tag:noindex
X-PUBLISHED-TTL:PT1H
BEGIN:VTIMEZONE
TZID:America/New_York
BEGIN:DAYLIGHT
TZOFFSETFROM:-0500
TZOFFSETTO:-0400
TZNAME:EDT
DTSTART:20230312T070000
END:DAYLIGHT
BEGIN:STANDARD
TZOFFSETFROM:-0400
TZOFFSETTO:-0500
TZNAME:EST
DTSTART:20231105T060000
END:STANDARD
BEGIN:DAYLIGHT
TZOFFSETFROM:-0500
TZOFFSETTO:-0400
TZNAME:EDT
DTSTART:20240310T070000
END:DAYLIGHT
BEGIN:STANDARD
TZOFFSETFROM:-0400
TZOFFSETTO:-0500
TZNAME:EST
DTSTART:20241103T060000
END:STANDARD
END:VTIMEZONE
BEGIN:VEVENT
DTSTART;TZID=America/New_York:20230220T183000
DTEND;TZID=America/New_York:20230220T193000
DTSTAMP:20260423T164140
CREATED:20230117T022112Z
LAST-MODIFIED:20230117T022112Z
UID:1873-1676917800-1676921400@www.churchhillrotary.org
SUMMARY:Club Meeting
DESCRIPTION:
URL:https://www.churchhillrotary.org/event/club-meeting-37/
LOCATION:Patrick Henry Pub & Grill\, 2300 E Broad St\, Richmond\, VA\, 23223\, United States
END:VEVENT
BEGIN:VEVENT
DTSTART;TZID=America/New_York:20230227T183000
DTEND;TZID=America/New_York:20230227T193000
DTSTAMP:20260423T164140
CREATED:20230117T022145Z
LAST-MODIFIED:20230117T022145Z
UID:1875-1677522600-1677526200@www.churchhillrotary.org
SUMMARY:Club Meeting
DESCRIPTION:
URL:https://www.churchhillrotary.org/event/club-meeting-38/
LOCATION:Patrick Henry Pub & Grill\, 2300 E Broad St\, Richmond\, VA\, 23223\, United States
END:VEVENT
BEGIN:VEVENT
DTSTART;TZID=America/New_York:20230306T183000
DTEND;TZID=America/New_York:20230306T193000
DTSTAMP:20260423T164140
CREATED:20230227T232741Z
LAST-MODIFIED:20230227T232741Z
UID:1902-1678127400-1678131000@www.churchhillrotary.org
SUMMARY:Club Meeting
DESCRIPTION:
URL:https://www.churchhillrotary.org/event/club-meeting-39/
LOCATION:Patrick Henry Pub & Grill\, 2300 E Broad St\, Richmond\, VA\, 23223\, United States
END:VEVENT
BEGIN:VEVENT
DTSTART;TZID=America/New_York:20230313T183000
DTEND;TZID=America/New_York:20230313T193000
DTSTAMP:20260423T164140
CREATED:20230227T232822Z
LAST-MODIFIED:20230227T232822Z
UID:1904-1678732200-1678735800@www.churchhillrotary.org
SUMMARY:Club Meeting
DESCRIPTION:
URL:https://www.churchhillrotary.org/event/club-meeting-40/
LOCATION:Patrick Henry Pub & Grill\, 2300 E Broad St\, Richmond\, VA\, 23223\, United States
END:VEVENT
BEGIN:VEVENT
DTSTART;TZID=America/New_York:20230320T183000
DTEND;TZID=America/New_York:20230320T193000
DTSTAMP:20260423T164140
CREATED:20230227T232906Z
LAST-MODIFIED:20230227T232942Z
UID:1906-1679337000-1679340600@www.churchhillrotary.org
SUMMARY:Club Meeting at Katie's House
DESCRIPTION:Meeting to put together swag for 5K
URL:https://www.churchhillrotary.org/event/club-meeting-at-katies-house/
LOCATION:Patrick Henry Pub & Grill\, 2300 E Broad St\, Richmond\, VA\, 23223\, United States
END:VEVENT
BEGIN:VEVENT
DTSTART;TZID=America/New_York:20230327T183000
DTEND;TZID=America/New_York:20230327T193000
DTSTAMP:20260423T164140
CREATED:20230227T233054Z
LAST-MODIFIED:20230227T233054Z
UID:1908-1679941800-1679945400@www.churchhillrotary.org
SUMMARY:No Club Meeting
DESCRIPTION:No club meeting due to the Hill Topper 5K this weekend.
URL:https://www.churchhillrotary.org/event/no-club-meeting-5/
LOCATION:Patrick Henry Pub & Grill\, 2300 E Broad St\, Richmond\, VA\, 23223\, United States
END:VEVENT
BEGIN:VEVENT
DTSTART;TZID=America/New_York:20230403T183000
DTEND;TZID=America/New_York:20230403T193000
DTSTAMP:20260423T164140
CREATED:20230227T233134Z
LAST-MODIFIED:20230227T233134Z
UID:1910-1680546600-1680550200@www.churchhillrotary.org
SUMMARY:Club Meeting
DESCRIPTION:
URL:https://www.churchhillrotary.org/event/club-meeting-41/
LOCATION:Patrick Henry Pub & Grill\, 2300 E Broad St\, Richmond\, VA\, 23223\, United States
END:VEVENT
BEGIN:VEVENT
DTSTART;TZID=America/New_York:20230410T183000
DTEND;TZID=America/New_York:20230410T193000
DTSTAMP:20260423T164140
CREATED:20230227T233224Z
LAST-MODIFIED:20230227T233224Z
UID:1912-1681151400-1681155000@www.churchhillrotary.org
SUMMARY:No Club Meeting
DESCRIPTION:
URL:https://www.churchhillrotary.org/event/no-club-meeting-6/
END:VEVENT
BEGIN:VEVENT
DTSTART;TZID=America/New_York:20230417T183000
DTEND;TZID=America/New_York:20230417T193000
DTSTAMP:20260423T164140
CREATED:20230227T233259Z
LAST-MODIFIED:20230227T233259Z
UID:1914-1681756200-1681759800@www.churchhillrotary.org
SUMMARY:Club Meeting
DESCRIPTION:Speaker at the meeting.
URL:https://www.churchhillrotary.org/event/club-meeting-42/
END:VEVENT
BEGIN:VEVENT
DTSTART;TZID=America/New_York:20230424T183000
DTEND;TZID=America/New_York:20230424T193000
DTSTAMP:20260423T164140
CREATED:20230227T233340Z
LAST-MODIFIED:20230227T233340Z
UID:1916-1682361000-1682364600@www.churchhillrotary.org
SUMMARY:Club Meeting
DESCRIPTION:
URL:https://www.churchhillrotary.org/event/club-meeting-43/
LOCATION:Patrick Henry Pub & Grill\, 2300 E Broad St\, Richmond\, VA\, 23223\, United States
END:VEVENT
BEGIN:VEVENT
DTSTART;TZID=America/New_York:20230612T183000
DTEND;TZID=America/New_York:20230612T193000
DTSTAMP:20260423T164140
CREATED:20230606T005859Z
LAST-MODIFIED:20230606T005859Z
UID:1927-1686594600-1686598200@www.churchhillrotary.org
SUMMARY:Club Meeting
DESCRIPTION:
URL:https://www.churchhillrotary.org/event/club-meeting-44/
LOCATION:Patrick Henry Pub & Grill\, 2300 E Broad St\, Richmond\, VA\, 23223\, United States
END:VEVENT
BEGIN:VEVENT
DTSTART;TZID=America/New_York:20230619T183000
DTEND;TZID=America/New_York:20230619T193000
DTSTAMP:20260423T164140
CREATED:20230606T005925Z
LAST-MODIFIED:20230606T005925Z
UID:1929-1687199400-1687203000@www.churchhillrotary.org
SUMMARY:No Club Meeting
DESCRIPTION:
URL:https://www.churchhillrotary.org/event/no-club-meeting-7/
END:VEVENT
BEGIN:VEVENT
DTSTART;TZID=America/New_York:20230626T183000
DTEND;TZID=America/New_York:20230626T193000
DTSTAMP:20260423T164140
CREATED:20230606T010010Z
LAST-MODIFIED:20230606T010010Z
UID:1931-1687804200-1687807800@www.churchhillrotary.org
SUMMARY:Club Meeting
DESCRIPTION:
URL:https://www.churchhillrotary.org/event/club-meeting-45/
LOCATION:Patrick Henry Pub & Grill\, 2300 E Broad St\, Richmond\, VA\, 23223\, United States
END:VEVENT
BEGIN:VEVENT
DTSTART;TZID=America/New_York:20230703T183000
DTEND;TZID=America/New_York:20230703T193000
DTSTAMP:20260423T164140
CREATED:20230606T010049Z
LAST-MODIFIED:20230606T010049Z
UID:1933-1688409000-1688412600@www.churchhillrotary.org
SUMMARY:No Club Meeting
DESCRIPTION:
URL:https://www.churchhillrotary.org/event/no-club-meeting-8/
END:VEVENT
BEGIN:VEVENT
DTSTART;TZID=America/New_York:20230710T183000
DTEND;TZID=America/New_York:20230710T193000
DTSTAMP:20260423T164140
CREATED:20230606T010126Z
LAST-MODIFIED:20230606T010126Z
UID:1935-1689013800-1689017400@www.churchhillrotary.org
SUMMARY:Club Meeting
DESCRIPTION:
URL:https://www.churchhillrotary.org/event/club-meeting-46/
LOCATION:Patrick Henry Pub & Grill\, 2300 E Broad St\, Richmond\, VA\, 23223\, United States
END:VEVENT
BEGIN:VEVENT
DTSTART;TZID=America/New_York:20230717T183000
DTEND;TZID=America/New_York:20230717T193000
DTSTAMP:20260423T164140
CREATED:20230606T010159Z
LAST-MODIFIED:20230606T010159Z
UID:1937-1689618600-1689622200@www.churchhillrotary.org
SUMMARY:Club Meeting
DESCRIPTION:
URL:https://www.churchhillrotary.org/event/club-meeting-47/
LOCATION:Patrick Henry Pub & Grill\, 2300 E Broad St\, Richmond\, VA\, 23223\, United States
END:VEVENT
BEGIN:VEVENT
DTSTART;TZID=America/New_York:20230724T183000
DTEND;TZID=America/New_York:20230724T193000
DTSTAMP:20260423T164140
CREATED:20230606T010236Z
LAST-MODIFIED:20230606T010236Z
UID:1939-1690223400-1690227000@www.churchhillrotary.org
SUMMARY:Club Meeting
DESCRIPTION:
URL:https://www.churchhillrotary.org/event/club-meeting-48/
LOCATION:Patrick Henry Pub & Grill\, 2300 E Broad St\, Richmond\, VA\, 23223\, United States
END:VEVENT
BEGIN:VEVENT
DTSTART;TZID=America/New_York:20230731T183000
DTEND;TZID=America/New_York:20230731T193000
DTSTAMP:20260423T164140
CREATED:20230606T010317Z
LAST-MODIFIED:20230606T010317Z
UID:1941-1690828200-1690831800@www.churchhillrotary.org
SUMMARY:Club Meeting
DESCRIPTION:
URL:https://www.churchhillrotary.org/event/club-meeting-49/
LOCATION:Patrick Henry Pub & Grill\, 2300 E Broad St\, Richmond\, VA\, 23223\, United States
END:VEVENT
BEGIN:VEVENT
DTSTART;TZID=America/New_York:20230807T183000
DTEND;TZID=America/New_York:20230807T193000
DTSTAMP:20260423T164140
CREATED:20230606T010353Z
LAST-MODIFIED:20230606T010353Z
UID:1943-1691433000-1691436600@www.churchhillrotary.org
SUMMARY:Club Meeting
DESCRIPTION:
URL:https://www.churchhillrotary.org/event/club-meeting-50/
LOCATION:Patrick Henry Pub & Grill\, 2300 E Broad St\, Richmond\, VA\, 23223\, United States
END:VEVENT
BEGIN:VEVENT
DTSTART;TZID=America/New_York:20230814T183000
DTEND;TZID=America/New_York:20230814T193000
DTSTAMP:20260423T164140
CREATED:20230606T010433Z
LAST-MODIFIED:20230606T010433Z
UID:1945-1692037800-1692041400@www.churchhillrotary.org
SUMMARY:Club Meeting
DESCRIPTION:
URL:https://www.churchhillrotary.org/event/club-meeting-51/
LOCATION:Patrick Henry Pub & Grill\, 2300 E Broad St\, Richmond\, VA\, 23223\, United States
END:VEVENT
BEGIN:VEVENT
DTSTART;TZID=America/New_York:20230821T183000
DTEND;TZID=America/New_York:20230821T193000
DTSTAMP:20260423T164140
CREATED:20230606T010506Z
LAST-MODIFIED:20230606T010506Z
UID:1947-1692642600-1692646200@www.churchhillrotary.org
SUMMARY:Club Meeting
DESCRIPTION:
URL:https://www.churchhillrotary.org/event/club-meeting-52/
LOCATION:Patrick Henry Pub & Grill\, 2300 E Broad St\, Richmond\, VA\, 23223\, United States
END:VEVENT
BEGIN:VEVENT
DTSTART;TZID=America/New_York:20230828T183000
DTEND;TZID=America/New_York:20230828T193000
DTSTAMP:20260423T164140
CREATED:20230606T010538Z
LAST-MODIFIED:20230606T010538Z
UID:1949-1693247400-1693251000@www.churchhillrotary.org
SUMMARY:Club Meeting
DESCRIPTION:
URL:https://www.churchhillrotary.org/event/club-meeting-53/
LOCATION:Patrick Henry Pub & Grill\, 2300 E Broad St\, Richmond\, VA\, 23223\, United States
END:VEVENT
BEGIN:VEVENT
DTSTART;TZID=America/New_York:20230904T183000
DTEND;TZID=America/New_York:20230904T193000
DTSTAMP:20260423T164140
CREATED:20230606T010623Z
LAST-MODIFIED:20230606T010623Z
UID:1951-1693852200-1693855800@www.churchhillrotary.org
SUMMARY:No Club Meeting
DESCRIPTION:
URL:https://www.churchhillrotary.org/event/no-club-meeting-9/
END:VEVENT
BEGIN:VEVENT
DTSTART;TZID=America/New_York:20240805T183000
DTEND;TZID=America/New_York:20240805T193000
DTSTAMP:20260423T164140
CREATED:20240806T003224Z
LAST-MODIFIED:20240806T003224Z
UID:2031-1722882600-1722886200@www.churchhillrotary.org
SUMMARY:Club Meeting: Grant Execution Planning
DESCRIPTION:The Rotary Club of Church Hill submitted a grant for flower bed revitalization in Chimborazo Park\, in conjunction with the Chimborazo Park Conservatory. The grant was approved! Next steps: action planning.
URL:https://www.churchhillrotary.org/event/club-meeting-grant-execution-planning/
LOCATION:Patrick Henry Pub & Grill\, 2300 E Broad St\, Richmond\, VA\, 23223\, United States
END:VEVENT
BEGIN:VEVENT
DTSTART;TZID=America/New_York:20240813T180000
DTEND;TZID=America/New_York:20240813T200000
DTSTAMP:20260423T164140
CREATED:20240806T002211Z
LAST-MODIFIED:20240806T002614Z
UID:2022-1723572000-1723579200@www.churchhillrotary.org
SUMMARY:Club Social at Top Golf
DESCRIPTION:
URL:https://www.churchhillrotary.org/event/club-social-at-top-golf/
END:VEVENT
BEGIN:VEVENT
DTSTART;TZID=America/New_York:20240819T183000
DTEND;TZID=America/New_York:20240819T193000
DTSTAMP:20260423T164140
CREATED:20240806T002406Z
LAST-MODIFIED:20240806T002854Z
UID:2024-1724092200-1724095800@www.churchhillrotary.org
SUMMARY:Club Meeting: Branding and Promo Materials
DESCRIPTION:
URL:https://www.churchhillrotary.org/event/club-meeting-54/
LOCATION:Patrick Henry Pub & Grill\, 2300 E Broad St\, Richmond\, VA\, 23223\, United States
END:VEVENT
BEGIN:VEVENT
DTSTART;TZID=America/New_York:20240826T183000
DTEND;TZID=America/New_York:20240826T193000
DTSTAMP:20260423T164140
CREATED:20240806T002806Z
LAST-MODIFIED:20240806T005343Z
UID:2026-1724697000-1724700600@www.churchhillrotary.org
SUMMARY:Club Meeting: Purple Pinkie Planning
DESCRIPTION:
URL:https://www.churchhillrotary.org/event/club-meeting-planning-for-purple-pinky/
LOCATION:Patrick Henry Pub & Grill\, 2300 E Broad St\, Richmond\, VA\, 23223\, United States
END:VEVENT
BEGIN:VEVENT
DTSTART;VALUE=DATE:20240902
DTEND;VALUE=DATE:20240903
DTSTAMP:20260423T164140
CREATED:20240806T002942Z
LAST-MODIFIED:20240806T011318Z
UID:2029-1725235200-1725321599@www.churchhillrotary.org
SUMMARY:No Club Meeting (Labor Day)
DESCRIPTION:
URL:https://www.churchhillrotary.org/event/no-club-meeting-labor-day/
END:VEVENT
BEGIN:VEVENT
DTSTART;TZID=America/New_York:20240909T180000
DTEND;TZID=America/New_York:20240909T193000
DTSTAMP:20260423T164140
CREATED:20240806T003540Z
LAST-MODIFIED:20240806T003540Z
UID:2033-1725904800-1725910200@www.churchhillrotary.org
SUMMARY:Club Service: Chimbo Park Bed Cleanup
DESCRIPTION:[Chimbo Park flower bed grant] Weed garden beds\, prepare for planting in upcoming weeks.
URL:https://www.churchhillrotary.org/event/club-service-chimbo-park-bed-cleanup/
LOCATION:Chimborazo Park
END:VEVENT
BEGIN:VEVENT
DTSTART;TZID=America/New_York:20240916T180000
DTEND;TZID=America/New_York:20240916T200000
DTSTAMP:20260423T164140
CREATED:20240806T003713Z
LAST-MODIFIED:20240806T003713Z
UID:2036-1726509600-1726516800@www.churchhillrotary.org
SUMMARY:Club Social: Boat Trip/ Sturgeon Migration
DESCRIPTION:The Great Return of the Atlantic Sturgeon
URL:https://www.churchhillrotary.org/event/club-social-boat-trip-sturgeon-migration/
END:VEVENT
END:VCALENDAR