BEGIN:VCALENDAR
VERSION:2.0
PRODID:-//Church Hill Rotary - ECPv6.15.3//NONSGML v1.0//EN
CALSCALE:GREGORIAN
METHOD:PUBLISH
X-ORIGINAL-URL:https://www.churchhillrotary.org
X-WR-CALDESC:Events for Church Hill Rotary
REFRESH-INTERVAL;VALUE=DURATION:PT1H
X-Robots-Tag:noindex
X-PUBLISHED-TTL:PT1H
BEGIN:VTIMEZONE
TZID:America/New_York
BEGIN:DAYLIGHT
TZOFFSETFROM:-0500
TZOFFSETTO:-0400
TZNAME:EDT
DTSTART:20260308T070000
END:DAYLIGHT
BEGIN:STANDARD
TZOFFSETFROM:-0400
TZOFFSETTO:-0500
TZNAME:EST
DTSTART:20261101T060000
END:STANDARD
END:VTIMEZONE
BEGIN:VEVENT
DTSTART;TZID=America/New_York:20260504T180000
DTEND;TZID=America/New_York:20260504T200000
DTSTAMP:20260419T141555
CREATED:20260414T015710Z
LAST-MODIFIED:20260414T015710Z
UID:3301-1777917600-1777924800@www.churchhillrotary.org
SUMMARY:EVENT: Prospective Members Social @ Triple Crossing
DESCRIPTION:
URL:https://www.churchhillrotary.org/event/event-prospective-members-social-triple-crossing/
LOCATION:Triple Crossing Brewery\, 5203 Hatcher St\, Richmond\, VA\, 23231\, United States
END:VEVENT
BEGIN:VEVENT
DTSTART;TZID=America/New_York:20260511T080000
DTEND;TZID=America/New_York:20260511T170000
DTSTAMP:20260419T141555
CREATED:20260414T015833Z
LAST-MODIFIED:20260414T015833Z
UID:3303-1778486400-1778518800@www.churchhillrotary.org
SUMMARY:NO CLUB MEETING - Club Service Tues 5/12
DESCRIPTION:
URL:https://www.churchhillrotary.org/event/no-club-meeting-club-service-tues-5-12/
END:VEVENT
END:VCALENDAR